Workbook
Name PrevalenceRange: [1]Data!$R$1:$S$5
Name RaceList: [1]Data!$O$1:$O$4
Name UncertaintyList: [1]Data!$P$1:$P$2

Sheet Data Basis
A1: Kategori | B1: Spørgsmål | C1: Point | D1: Fakta | E1: Spørgsmål | F1: svar | G1: Kommentar
A2: Miljø | B2: =#REF! -> #REF! | C2: =#REF! -> #REF! | D2: =#REF! -> #REF! | E2: =#REF! -> #REF! | F2: {=_xlfn.IFS(C2=0,"Ikke besvaret",C2=4,#REF!,C2=3,#REF!,C2=2,#REF!,C2=1,#REF!)} -> #REF! | G2: =IF(#REF!="","Ingen kommentarer",#REF!) -> #REF!
B3: =#REF! -> #REF! | C3: =#REF! -> #REF! | D3: =#REF! -> #REF! | E3: =#REF! -> #REF! | F3: {=_xlfn.IFS(C3=0,"Ikke besvaret",C3=4,#REF!,C3=3,#REF!,C3=2,#REF!,C3=1,#REF!)} -> #REF! | G3: =IF(#REF!="","Ingen kommentarer",#REF!) -> #REF!
B4: =#REF! -> #REF! | C4: =#REF! -> #REF! | D4: =#REF! -> #REF! | E4: =#REF! -> #REF! | F4: {=_xlfn.IFS(C4=0,"Ikke besvaret",C4=4,#REF!,C4=3,#REF!,C4=2,#REF!,C4=1,#REF!)} -> #REF! | G4: =IF(#REF!="","Ingen kommentarer",#REF!) -> #REF!
A5: Social | B5: =#REF! -> #REF! | C5: =#REF! -> #REF! | D5: =#REF! -> #REF! | E5: =#REF! -> #REF! | F5: {=_xlfn.IFS(C5=0,"Ikke besvaret",C5=4,#REF!,C5=3,#REF!,C5=2,#REF!,C5=1,#REF!)} -> #REF! | G5: =IF(#REF!="","Ingen kommentarer",#REF!) -> #REF!
B6: =#REF! -> #REF! | C6: =#REF! -> #REF! | D6: =#REF! -> #REF! | E6: =#REF! -> #REF! | F6: {=_xlfn.IFS(C6=0,"Ikke besvaret",C6=4,#REF!,C6=3,#REF!,C6=2,#REF!,C6=1,#REF!)} -> #REF! | G6: =IF(#REF!="","Ingen kommentarer",#REF!) -> #REF!
B7: =#REF! -> #REF! | C7: =#REF! -> #REF! | D7: =#REF! -> #REF! | E7: =#REF! -> #REF! | F7: {=_xlfn.IFS(C7=0,"Ikke besvaret",C7=4,#REF!,C7=3,#REF!,C7=2,#REF!,C7=1,#REF!)} -> #REF! | G7: =IF(#REF!="","Ingen kommentarer",#REF!) -> #REF!
B8: =#REF! -> #REF! | C8: =#REF! -> #REF! | D8: =#REF! -> #REF! | E8: =#REF! -> #REF! | F8: {=_xlfn.IFS(C8=0,"Ikke besvaret",C8=4,#REF!,C8=3,#REF!,C8=2,#REF!,C8=1,#REF!)} -> #REF! | G8: =IF(#REF!="","Ingen kommentarer",#REF!) -> #REF!
A9: Teknisk | B9: =#REF! -> #REF! | C9: =#REF! -> #REF! | D9: =#REF! -> #REF! | E9: =#REF! -> #REF! | F9: {=_xlfn.IFS(C9=0,"Ikke besvaret",C9=4,#REF!,C9=3,#REF!,C9=2,#REF!,C9=1,#REF!)} -> #REF! | G9: =IF(#REF!="","Ingen kommentarer",#REF!) -> #REF!

Sheet Data Projekt
A1: Tema | B1: Gennemsnit Prioritet | C1: Pakeret | E1: Kort | F1: Prioritet | G1: Handling | H1: 1 | I1: 1 | J1: 1 | K1: 2 | L1: 1 | M1: 3 | N1: 1 | O1: 4 | P1: 2 | Q1: 1 | R1: 2 | S1: 2 | T1: 2 | U1: 3 | V1: 2 | W1: 4 | X1: 3 | Y1: 1 | Z1: 3 | AA1: 2 | AB1: 3 | AC1: 3 | AD1: 3 | AE1: 4 | AF1: 4 | AG1: 1 | AH1: 4 | AI1: 2 | AJ1: 4 | AK1: 3 | AL1: 4 | AM1: 4 | AN1: S Handling | AO1: S Prioritet | AP1: Kommentar | AQ1: 0.25
A2: Demokrati | B2: =AVERAGE(F2:F3) -> 0 | C2: =IF(Projektspørgsmål!#REF!=Projektspørgsmål!$IO$33,TRUE,FALSE) -> #REF! | D2: =IF(C2=TRUE,1,0) -> #REF! | E2: =Projektspørgsmål!AX2 -> Geografisk placering | F2: =Projektspørgsmål!IO7 -> 0 | G2: =Projektspørgsmål!IO11 -> 0 | H2: =IF(AND($F2=H$1,$G2=I$1),$F$2-$AQ$1,0) -> 0 | I2: =IF(AND($F2=H$1,$G2=I$1),$G$2-$AQ$1,0) -> 0 | J2: =IF(AND($F2=J$1,$G2=K$1),$F$2-$AQ$1,0) -> 0 | K2: =IF(AND($F2=J$1,$G2=K$1),$G$2-$AQ$1,0) -> 0 | L2: =IF(AND($F2=L$1,$G2=M$1),$F$2-$AQ$1,0) -> 0 | M2: =IF(AND($F2=L$1,$G2=M$1),$G$2-$AQ$1,0) -> 0 | N2: =IF(AND($F2=N$1,$G2=O$1),$F$2-$AQ$1,0) -> 0 | O2: =IF(AND($F2=N$1,$G2=O$1),$G$2-$AQ$1,0) -> 0 | P2: =IF(AND($F2=P$1,$G2=Q$1),$F$2-$AQ$1,0) -> 0 | Q2: =IF(AND($F2=P$1,$G2=Q$1),$G$2-$AQ$1,0) -> 0 | R2: =IF(AND($F2=R$1,$G2=S$1),$F$2-$AQ$1,0) -> 0 | S2: =IF(AND($F2=R$1,$G2=S$1),$G$2-$AQ$1,0) -> 0 | T2: =IF(AND($F2=T$1,$G2=U$1),$F$2-$AQ$1,0) -> 0 | U2: =IF(AND($F2=T$1,$G2=U$1),$G$2-$AQ$1,0) -> 0 | V2: =IF(AND($F2=V$1,$G2=W$1),$F$2-$AQ$1,0) -> 0 | W2: =IF(AND($F2=V$1,$G2=W$1),$G$2-$AQ$1,0) -> 0 | X2: =IF(AND($F2=X$1,$G2=Y$1),$F$2-$AQ$1,0) -> 0 | Y2: =IF(AND($F2=X$1,$G2=Y$1),$G$2-$AQ$1,0) -> 0 | Z2: =IF(AND($F2=Z$1,$G2=AA$1),$F$2-$AQ$1,0) -> 0 | AA2: =IF(AND($F2=Z$1,$G2=AA$1),$G$2-$AQ$1,0) -> 0 | AB2: =IF(AND($F2=AB$1,$G2=AC$1),$F$2-$AQ$1,0) -> 0 | AC2: =IF(AND($F2=AB$1,$G2=AC$1),$G$2-$AQ$1,0) -> 0 | AD2: =IF(AND($F2=AD$1,$G2=AE$1),$F$2-$AQ$1,0) -> 0 | AE2: =IF(AND($F2=AD$1,$G2=AE$1),$G$2-$AQ$1,0) -> 0 | AF2: =IF(AND($F2=AF$1,$G2=AG$1),$F$2-$AQ$1,0) -> 0 | AG2: =IF(AND($F2=AF$1,$G2=AG$1),$G$2-$AQ$1,0) -> 0 | AH2: =IF(AND($F2=AH$1,$G2=AI$1),$F$2-$AQ$1,0) -> 0 | AI2: =IF(AND($F2=AH$1,$G2=AI$1),$G$2-$AQ$1,0) -> 0 | AJ2: =IF(AND($F2=AJ$1,$G2=AK$1),$F$2-$AQ$1,0) -> 0 | AK2: =IF(AND($F2=AJ$1,$G2=AK$1),$G$2-$AQ$1,0) -> 0 | AL2: =IF(AND($F2=AL$1,$G2=AM$1),$F$2-$AQ$1,0) -> 0 | AM2: =IF(AND($F2=AL$1,$G2=AM$1),$G$2-$AQ$1,0) -> 0 | AN2: =SUM(I2,K2,M2,O2,Q2,S2,U2,W2,Y2,AA2,AC2,AE2,AG2,AI2,AK2,AM2) -> 0 | AO2: =SUM(H2,J2,L2,N2,P2,R2,T2,V2,X2,Z2,AB2,AD2,AF2,AH2,AJ2,AL2) -> 0 | AP2: =IF(Projektspørgsmål!$AM$30="","",Projektspørgsmål!$AM$30) -> Værktøjer:
C3: =IF(Projektspørgsmål!$AZ$30=Projektspørgsmål!$IO$33,TRUE,FALSE) -> FALSE | D3: =IF(C3=TRUE,MAX(D2)+1,0) -> 0 | E3: =Projektspørgsmål!BK2 -> Fortættet byudvikling | F3: =Projektspørgsmål!IQ7 -> 0 | G3: =Projektspørgsmål!IQ11 -> 0 | H3: =IF(AND($F3=H$1,$G3=I$1,COUNTIF(H2:H2,">0")<=1),$F$3-$AQ$1,IF(AND($F3=H$1,$G3=I$1,COUNTIF(H2:H2,">0")>1),$F$3+$AQ$1,0)) -> 0 | I3: =IF(AND($F3=H$1,$G3=I$1,OR(COUNTIF(I2:I2,">0")=0,COUNTIF(I2:I2,">0")=3)),$G$3-$AQ$1,IF(AND($F3=H$1,$G3=I$1,OR(COUNTIF(I2:I2,">0")=1,COUNTIF(I2:I2,">0")=2)),$G$3+$AQ$1,0)) -> 0 | J3: =IF(AND($F3=J$1,$G3=K$1,COUNTIF(J2:J2,">0")<=1),$F$3-$AQ$1,IF(AND($F3=J$1,$G3=K$1,COUNTIF(J2:J2,">0")>1),$F$3+$AQ$1,0)) -> 0 | K3: =IF(AND($F3=J$1,$G3=K$1,OR(COUNTIF(K2:K2,">0")=0,COUNTIF(K2:K2,">0")=3)),$G$3-$AQ$1,IF(AND($F3=J$1,$G3=K$1,OR(COUNTIF(K2:K2,">0")=1,COUNTIF(K2:K2,">0")=2)),$G$3+$AQ$1,0)) -> 0 | L3: =IF(AND($F3=L$1,$G3=M$1,COUNTIF(L2:L2,">0")<=1),$F$3-$AQ$1,IF(AND($F3=L$1,$G3=M$1,COUNTIF(L2:L2,">0")>1),$F$3+$AQ$1,0)) -> 0 | M3: =IF(AND($F3=L$1,$G3=M$1,OR(COUNTIF(M2:M2,">0")=0,COUNTIF(M2:M2,">0")=3)),$G$3-$AQ$1,IF(AND($F3=L$1,$G3=M$1,OR(COUNTIF(M2:M2,">0")=1,COUNTIF(M2:M2,">0")=2)),$G$3+$AQ$1,0)) -> 0 | N3: =IF(AND($F3=N$1,$G3=O$1,COUNTIF(N2:N2,">0")<=1),$F$3-$AQ$1,IF(AND($F3=N$1,$G3=O$1,COUNTIF(N2:N2,">0")>1),$F$3+$AQ$1,0)) -> 0 | O3: =IF(AND($F3=N$1,$G3=O$1,OR(COUNTIF(O2:O2,">0")=0,COUNTIF(O2:O2,">0")=3)),$G$3-$AQ$1,IF(AND($F3=N$1,$G3=O$1,OR(COUNTIF(O2:O2,">0")=1,COUNTIF(O2:O2,">0")=2)),$G$3+$AQ$1,0)) -> 0 | P3: =IF(AND($F3=P$1,$G3=Q$1,COUNTIF(P2:P2,">0")<=1),$F$3-$AQ$1,IF(AND($F3=P$1,$G3=Q$1,COUNTIF(P2:P2,">0")>1),$F$3+$AQ$1,0)) -> 0 | Q3: =IF(AND($F3=P$1,$G3=Q$1,OR(COUNTIF(Q2:Q2,">0")=0,COUNTIF(Q2:Q2,">0")=3)),$G$3-$AQ$1,IF(AND($F3=P$1,$G3=Q$1,OR(COUNTIF(Q2:Q2,">0")=1,COUNTIF(Q2:Q2,">0")=2)),$G$3+$AQ$1,0)) -> 0 | R3: =IF(AND($F3=R$1,$G3=S$1,COUNTIF(R2:R2,">0")<=1),$F$3-$AQ$1,IF(AND($F3=R$1,$G3=S$1,COUNTIF(R2:R2,">0")>1),$F$3+$AQ$1,0)) -> 0 | S3: =IF(AND($F3=R$1,$G3=S$1,OR(COUNTIF(S2:S2,">0")=0,COUNTIF(S2:S2,">0")=3)),$G$3-$AQ$1,IF(AND($F3=R$1,$G3=S$1,OR(COUNTIF(S2:S2,">0")=1,COUNTIF(S2:S2,">0")=2)),$G$3+$AQ$1,0)) -> 0 | T3: =IF(AND($F3=T$1,$G3=U$1,COUNTIF(T2:T2,">0")<=1),$F$3-$AQ$1,IF(AND($F3=T$1,$G3=U$1,COUNTIF(T2:T2,">0")>1),$F$3+$AQ$1,0)) -> 0 | U3: =IF(AND($F3=T$1,$G3=U$1,OR(COUNTIF(U2:U2,">0")=0,COUNTIF(U2:U2,">0")=3)),$G$3-$AQ$1,IF(AND($F3=T$1,$G3=U$1,OR(COUNTIF(U2:U2,">0")=1,COUNTIF(U2:U2,">0")=2)),$G$3+$AQ$1,0)) -> 0 | V3: =IF(AND($F3=V$1,$G3=W$1,COUNTIF(V2:V2,">0")<=1),$F$3-$AQ$1,IF(AND($F3=V$1,$G3=W$1,COUNTIF(V2:V2,">0")>1),$F$3+$AQ$1,0)) -> 0 | W3: =IF(AND($F3=V$1,$G3=W$1,OR(COUNTIF(W2:W2,">0")=0,COUNTIF(W2:W2,">0")=3)),$G$3-$AQ$1,IF(AND($F3=V$1,$G3=W$1,OR(COUNTIF(W2:W2,">0")=1,COUNTIF(W2:W2,">0")=2)),$G$3+$AQ$1,0)) -> 0 | X3: =IF(AND($F3=X$1,$G3=Y$1,COUNTIF(X2:X2,">0")<=1),$F$3-$AQ$1,IF(AND($F3=X$1,$G3=Y$1,COUNTIF(X2:X2,">0")>1),$F$3+$AQ$1,0)) -> 0 | Y3: =IF(AND($F3=X$1,$G3=Y$1,OR(COUNTIF(Y2:Y2,">0")=0,COUNTIF(Y2:Y2,">0")=3)),$G$3-$AQ$1,IF(AND($F3=X$1,$G3=Y$1,OR(COUNTIF(Y2:Y2,">0")=1,COUNTIF(Y2:Y2,">0")=2)),$G$3+$AQ$1,0)) -> 0 | Z3: =IF(AND($F3=Z$1,$G3=AA$1,COUNTIF(Z2:Z2,">0")<=1),$F$3-$AQ$1,IF(AND($F3=Z$1,$G3=AA$1,COUNTIF(Z2:Z2,">0")>1),$F$3+$AQ$1,0)) -> 0 | AA3: =IF(AND($F3=Z$1,$G3=AA$1,OR(COUNTIF(AA2:AA2,">0")=0,COUNTIF(AA2:AA2,">0")=3)),$G$3-$AQ$1,IF(AND($F3=Z$1,$G3=AA$1,OR(COUNTIF(AA2:AA2,">0")=1,COUNTIF(AA2:AA2,">0")=2)),$G$3+$AQ$1,0)) -> 0 | AB3: =IF(AND($F3=AB$1,$G3=AC$1,COUNTIF(AB2:AB2,">0")<=1),$F$3-$AQ$1,IF(AND($F3=AB$1,$G3=AC$1,COUNTIF(AB2:AB2,">0")>1),$F$3+$AQ$1,0)) -> 0 | AC3: =IF(AND($F3=AB$1,$G3=AC$1,OR(COUNTIF(AC2:AC2,">0")=0,COUNTIF(AC2:AC2,">0")=3)),$G$3-$AQ$1,IF(AND($F3=AB$1,$G3=AC$1,OR(COUNTIF(AC2:AC2,">0")=1,COUNTIF(AC2:AC2,">0")=2)),$G$3+$AQ$1,0)) -> 0 | AD3: =IF(AND($F3=AD$1,$G3=AE$1,COUNTIF(AD2:AD2,">0")<=1),$F$3-$AQ$1,IF(AND($F3=AD$1,$G3=AE$1,COUNTIF(AD2:AD2,">0")>1),$F$3+$AQ$1,0)) -> 0 | AE3: =IF(AND($F3=AD$1,$G3=AE$1,OR(COUNTIF(AE2:AE2,">0")=0,COUNTIF(AE2:AE2,">0")=3)),$G$3-$AQ$1,IF(AND($F3=AD$1,$G3=AE$1,OR(COUNTIF(AE2:AE2,">0")=1,COUNTIF(AE2:AE2,">0")=2)),$G$3+$AQ$1,0)) -> 0 | AF3: =IF(AND($F3=AF$1,$G3=AG$1,COUNTIF(AF2:AF2,">0")<=1),$F$3-$AQ$1,IF(AND($F3=AF$1,$G3=AG$1,COUNTIF(AF2:AF2,">0")>1),$F$3+$AQ$1,0)) -> 0 | AG3: =IF(AND($F3=AF$1,$G3=AG$1,OR(COUNTIF(AG2:AG2,">0")=0,COUNTIF(AG2:AG2,">0")=3)),$G$3-$AQ$1,IF(AND($F3=AF$1,$G3=AG$1,OR(COUNTIF(AG2:AG2,">0")=1,COUNTIF(AG2:AG2,">0")=2)),$G$3+$AQ$1,0)) -> 0 | AH3: =IF(AND($F3=AH$1,$G3=AI$1,COUNTIF(AH2:AH2,">0")<=1),$F$3-$AQ$1,IF(AND($F3=AH$1,$G3=AI$1,COUNTIF(AH2:AH2,">0")>1),$F$3+$AQ$1,0)) -> 0 | AI3: =IF(AND($F3=AH$1,$G3=AI$1,OR(COUNTIF(AI2:AI2,">0")=0,COUNTIF(AI2:AI2,">0")=3)),$G$3-$AQ$1,IF(AND($F3=AH$1,$G3=AI$1,OR(COUNTIF(AI2:AI2,">0")=1,COUNTIF(AI2:AI2,">0")=2)),$G$3+$AQ$1,0)) -> 0 | AJ3: =IF(AND($F3=AJ$1,$G3=AK$1,COUNTIF(AJ2:AJ2,">0")<=1),$F$3-$AQ$1,IF(AND($F3=AJ$1,$G3=AK$1,COUNTIF(AJ2:AJ2,">0")>1),$F$3+$AQ$1,0)) -> 0 | AK3: =IF(AND($F3=AJ$1,$G3=AK$1,OR(COUNTIF(AK2:AK2,">0")=0,COUNTIF(AK2:AK2,">0")=3)),$G$3-$AQ$1,IF(AND($F3=AJ$1,$G3=AK$1,OR(COUNTIF(AK2:AK2,">0")=1,COUNTIF(AK2:AK2,">0")=2)),$G$3+$AQ$1,0)) -> 0 | AL3: =IF(AND($F3=AL$1,$G3=AM$1,COUNTIF(AL2:AL2,">0")<=1),$F$3-$AQ$1,IF(AND($F3=AL$1,$G3=AM$1,COUNTIF(AL2:AL2,">0")>1),$F$3+$AQ$1,0)) -> 0 | AM3: =IF(AND($F3=AL$1,$G3=AM$1,OR(COUNTIF(AM2:AM2,">0")=0,COUNTIF(AM2:AM2,">0")=3)),$G$3-$AQ$1,IF(AND($F3=AL$1,$G3=AM$1,OR(COUNTIF(AM2:AM2,">0")=1,COUNTIF(AM2:AM2,">0")=2)),$G$3+$AQ$1,0)) -> 0 | AN3: =SUM(I3,K3,M3,O3,Q3,S3,U3,W3,Y3,AA3,AC3,AE3,AG3,AI3,AK3,AM3) -> 0 | AO3: =SUM(H3,J3,L3,N3,P3,R3,T3,V3,X3,Z3,AB3,AD3,AF3,AH3,AJ3,AL3) -> 0 | AP3: =IF(Projektspørgsmål!$AZ$27="","",Projektspørgsmål!$AZ$27)
A4: Byliv og mangfoldighed | B4: =AVERAGE(F4:F10) -> 0 | C4: =IF(Projektspørgsmål!$BM$30=Projektspørgsmål!$IO$33,TRUE,FALSE) -> FALSE | D4: =IF(C4=TRUE,MAX(D2:D3)+1,0) -> 0 | E4: =Projektspørgsmål!BX2 -> Naturudlæg | F4: =Projektspørgsmål!IS7 -> 0 | G4: =Projektspørgsmål!IS11 -> 0 | H4: =IF(AND($F4=H$1,$G4=I$1,COUNTIF(H2:H3,">0")<=1),$F$4-$AQ$1,IF(AND($F4=H$1,$G4=I$1,COUNTIF(H2:H3,">0")>1),$F$4+$AQ$1,0)) -> 0 | I4: =IF(AND($F4=H$1,$G4=I$1,OR(COUNTIF(I2:I3,">0")=0,COUNTIF(I2:I3,">0")=3)),$G$4-$AQ$1,IF(AND($F4=H$1,$G4=I$1,OR(COUNTIF(I2:I3,">0")=1,COUNTIF(I2:I3,">0")=2)),$G$4+$AQ$1,0)) -> 0 | J4: =IF(AND($F4=J$1,$G4=K$1,COUNTIF(J2:J3,">0")<=1),$F$4-$AQ$1,IF(AND($F4=J$1,$G4=K$1,COUNTIF(J2:J3,">0")>1),$F$4+$AQ$1,0)) -> 0 | K4: =IF(AND($F4=J$1,$G4=K$1,OR(COUNTIF(K2:K3,">0")=0,COUNTIF(K2:K3,">0")=3)),$G$4-$AQ$1,IF(AND($F4=J$1,$G4=K$1,OR(COUNTIF(K2:K3,">0")=1,COUNTIF(K2:K3,">0")=2)),$G$4+$AQ$1,0)) -> 0 | L4: =IF(AND($F4=L$1,$G4=M$1,COUNTIF(L2:L3,">0")<=1),$F$4-$AQ$1,IF(AND($F4=L$1,$G4=M$1,COUNTIF(L2:L3,">0")>1),$F$4+$AQ$1,0)) -> 0 | M4: =IF(AND($F4=L$1,$G4=M$1,OR(COUNTIF(M2:M3,">0")=0,COUNTIF(M2:M3,">0")=3)),$G$4-$AQ$1,IF(AND($F4=L$1,$G4=M$1,OR(COUNTIF(M2:M3,">0")=1,COUNTIF(M2:M3,">0")=2)),$G$4+$AQ$1,0)) -> 0 | N4: =IF(AND($F4=N$1,$G4=O$1,COUNTIF(N2:N3,">0")<=1),$F$4-$AQ$1,IF(AND($F4=N$1,$G4=O$1,COUNTIF(N2:N3,">0")>1),$F$4+$AQ$1,0)) -> 0 | O4: =IF(AND($F4=N$1,$G4=O$1,OR(COUNTIF(O2:O3,">0")=0,COUNTIF(O2:O3,">0")=3)),$G$4-$AQ$1,IF(AND($F4=N$1,$G4=O$1,OR(COUNTIF(O2:O3,">0")=1,COUNTIF(O2:O3,">0")=2)),$G$4+$AQ$1,0)) -> 0 | P4: =IF(AND($F4=P$1,$G4=Q$1,COUNTIF(P2:P3,">0")<=1),$F$4-$AQ$1,IF(AND($F4=P$1,$G4=Q$1,COUNTIF(P2:P3,">0")>1),$F$4+$AQ$1,0)) -> 0 | Q4: =IF(AND($F4=P$1,$G4=Q$1,OR(COUNTIF(Q2:Q3,">0")=0,COUNTIF(Q2:Q3,">0")=3)),$G$4-$AQ$1,IF(AND($F4=P$1,$G4=Q$1,OR(COUNTIF(Q2:Q3,">0")=1,COUNTIF(Q2:Q3,">0")=2)),$G$4+$AQ$1,0)) -> 0 | R4: =IF(AND($F4=R$1,$G4=S$1,COUNTIF(R2:R3,">0")<=1),$F$4-$AQ$1,IF(AND($F4=R$1,$G4=S$1,COUNTIF(R2:R3,">0")>1),$F$4+$AQ$1,0)) -> 0 | S4: =IF(AND($F4=R$1,$G4=S$1,OR(COUNTIF(S2:S3,">0")=0,COUNTIF(S2:S3,">0")=3)),$G$4-$AQ$1,IF(AND($F4=R$1,$G4=S$1,OR(COUNTIF(S2:S3,">0")=1,COUNTIF(S2:S3,">0")=2)),$G$4+$AQ$1,0)) -> 0 | T4: =IF(AND($F4=T$1,$G4=U$1,COUNTIF(T2:T3,">0")<=1),$F$4-$AQ$1,IF(AND($F4=T$1,$G4=U$1,COUNTIF(T2:T3,">0")>1),$F$4+$AQ$1,0)) -> 0 | U4: =IF(AND($F4=T$1,$G4=U$1,OR(COUNTIF(U2:U3,">0")=0,COUNTIF(U2:U3,">0")=3)),$G$4-$AQ$1,IF(AND($F4=T$1,$G4=U$1,OR(COUNTIF(U2:U3,">0")=1,COUNTIF(U2:U3,">0")=2)),$G$4+$AQ$1,0)) -> 0 | V4: =IF(AND($F4=V$1,$G4=W$1,COUNTIF(V2:V3,">0")<=1),$F$4-$AQ$1,IF(AND($F4=V$1,$G4=W$1,COUNTIF(V2:V3,">0")>1),$F$4+$AQ$1,0)) -> 0 | W4: =IF(AND($F4=V$1,$G4=W$1,OR(COUNTIF(W2:W3,">0")=0,COUNTIF(W2:W3,">0")=3)),$G$4-$AQ$1,IF(AND($F4=V$1,$G4=W$1,OR(COUNTIF(W2:W3,">0")=1,COUNTIF(W2:W3,">0")=2)),$G$4+$AQ$1,0)) -> 0 | X4: =IF(AND($F4=X$1,$G4=Y$1,COUNTIF(X2:X3,">0")<=1),$F$4-$AQ$1,IF(AND($F4=X$1,$G4=Y$1,COUNTIF(X2:X3,">0")>1),$F$4+$AQ$1,0)) -> 0 | Y4: =IF(AND($F4=X$1,$G4=Y$1,OR(COUNTIF(Y2:Y3,">0")=0,COUNTIF(Y2:Y3,">0")=3)),$G$4-$AQ$1,IF(AND($F4=X$1,$G4=Y$1,OR(COUNTIF(Y2:Y3,">0")=1,COUNTIF(Y2:Y3,">0")=2)),$G$4+$AQ$1,0)) -> 0 | Z4: =IF(AND($F4=Z$1,$G4=AA$1,COUNTIF(Z2:Z3,">0")<=1),$F$4-$AQ$1,IF(AND($F4=Z$1,$G4=AA$1,COUNTIF(Z2:Z3,">0")>1),$F$4+$AQ$1,0)) -> 0 | AA4: =IF(AND($F4=Z$1,$G4=AA$1,OR(COUNTIF(AA2:AA3,">0")=0,COUNTIF(AA2:AA3,">0")=3)),$G$4-$AQ$1,IF(AND($F4=Z$1,$G4=AA$1,OR(COUNTIF(AA2:AA3,">0")=1,COUNTIF(AA2:AA3,">0")=2)),$G$4+$AQ$1,0)) -> 0 | AB4: =IF(AND($F4=AB$1,$G4=AC$1,COUNTIF(AB2:AB3,">0")<=1),$F$4-$AQ$1,IF(AND($F4=AB$1,$G4=AC$1,COUNTIF(AB2:AB3,">0")>1),$F$4+$AQ$1,0)) -> 0 | AC4: =IF(AND($F4=AB$1,$G4=AC$1,OR(COUNTIF(AC2:AC3,">0")=0,COUNTIF(AC2:AC3,">0")=3)),$G$4-$AQ$1,IF(AND($F4=AB$1,$G4=AC$1,OR(COUNTIF(AC2:AC3,">0")=1,COUNTIF(AC2:AC3,">0")=2)),$G$4+$AQ$1,0)) -> 0 | AD4: =IF(AND($F4=AD$1,$G4=AE$1,COUNTIF(AD2:AD3,">0")<=1),$F$4-$AQ$1,IF(AND($F4=AD$1,$G4=AE$1,COUNTIF(AD2:AD3,">0")>1),$F$4+$AQ$1,0)) -> 0 | AE4: =IF(AND($F4=AD$1,$G4=AE$1,OR(COUNTIF(AE2:AE3,">0")=0,COUNTIF(AE2:AE3,">0")=3)),$G$4-$AQ$1,IF(AND($F4=AD$1,$G4=AE$1,OR(COUNTIF(AE2:AE3,">0")=1,COUNTIF(AE2:AE3,">0")=2)),$G$4+$AQ$1,0)) -> 0 | AF4: =IF(AND($F4=AF$1,$G4=AG$1,COUNTIF(AF2:AF3,">0")<=1),$F$4-$AQ$1,IF(AND($F4=AF$1,$G4=AG$1,COUNTIF(AF2:AF3,">0")>1),$F$4+$AQ$1,0)) -> 0 | AG4: =IF(AND($F4=AF$1,$G4=AG$1,OR(COUNTIF(AG2:AG3,">0")=0,COUNTIF(AG2:AG3,">0")=3)),$G$4-$AQ$1,IF(AND($F4=AF$1,$G4=AG$1,OR(COUNTIF(AG2:AG3,">0")=1,COUNTIF(AG2:AG3,">0")=2)),$G$4+$AQ$1,0)) -> 0 | AH4: =IF(AND($F4=AH$1,$G4=AI$1,COUNTIF(AH2:AH3,">0")<=1),$F$4-$AQ$1,IF(AND($F4=AH$1,$G4=AI$1,COUNTIF(AH2:AH3,">0")>1),$F$4+$AQ$1,0)) -> 0 | AI4: =IF(AND($F4=AH$1,$G4=AI$1,OR(COUNTIF(AI2:AI3,">0")=0,COUNTIF(AI2:AI3,">0")=3)),$G$4-$AQ$1,IF(AND($F4=AH$1,$G4=AI$1,OR(COUNTIF(AI2:AI3,">0")=1,COUNTIF(AI2:AI3,">0")=2)),$G$4+$AQ$1,0)) -> 0 | AJ4: =IF(AND($F4=AJ$1,$G4=AK$1,COUNTIF(AJ2:AJ3,">0")<=1),$F$4-$AQ$1,IF(AND($F4=AJ$1,$G4=AK$1,COUNTIF(AJ2:AJ3,">0")>1),$F$4+$AQ$1,0)) -> 0 | AK4: =IF(AND($F4=AJ$1,$G4=AK$1,OR(COUNTIF(AK2:AK3,">0")=0,COUNTIF(AK2:AK3,">0")=3)),$G$4-$AQ$1,IF(AND($F4=AJ$1,$G4=AK$1,OR(COUNTIF(AK2:AK3,">0")=1,COUNTIF(AK2:AK3,">0")=2)),$G$4+$AQ$1,0)) -> 0 | AL4: =IF(AND($F4=AL$1,$G4=AM$1,COUNTIF(AL2:AL3,">0")<=1),$F$4-$AQ$1,IF(AND($F4=AL$1,$G4=AM$1,COUNTIF(AL2:AL3,">0")>1),$F$4+$AQ$1,0)) -> 0 | AM4: =IF(AND($F4=AL$1,$G4=AM$1,OR(COUNTIF(AM2:AM3,">0")=0,COUNTIF(AM2:AM3,">0")=3)),$G$4-$AQ$1,IF(AND($F4=AL$1,$G4=AM$1,OR(COUNTIF(AM2:AM3,">0")=1,COUNTIF(AM2:AM3,">0")=2)),$G$4+$AQ$1,0)) -> 0 | AN4: =SUM(I4,K4,M4,O4,Q4,S4,U4,W4,Y4,AA4,AC4,AE4,AG4,AI4,AK4,AM4) -> 0 | AO4: =SUM(H4,J4,L4,N4,P4,R4,T4,V4,X4,Z4,AB4,AD4,AF4,AH4,AJ4,AL4) -> 0 | AP4: =IF(Projektspørgsmål!$BM$27="","",Projektspørgsmål!$BM$27)
C5: =IF(Projektspørgsmål!$BZ$30=Projektspørgsmål!$IO$33,TRUE,FALSE) -> FALSE | D5: =IF(C5=TRUE,MAX(D2:D4)+1,0) -> 0 | E5: =Projektspørgsmål!CK2 -> Biofaktor | F5: =Projektspørgsmål!IU7 -> 0 | G5: =Projektspørgsmål!IU11 -> 0 | H5: =IF(AND($F5=H$1,$G5=I$1,COUNTIF(H2:H4,">0")<=1),$F$5-$AQ$1,IF(AND($F5=H$1,$G5=I$1,COUNTIF(H2:H4,">0")>1),$F$5+$AQ$1,0)) -> 0 | I5: =IF(AND($F5=H$1,$G5=I$1,OR(COUNTIF(I2:I4,">0")=0,COUNTIF(I2:I4,">0")=3)),$G$5-$AQ$1,IF(AND($F5=H$1,$G5=I$1,OR(COUNTIF(I2:I4,">0")=1,COUNTIF(I2:I4,">0")=2)),$G$5+$AQ$1,0)) -> 0 | J5: =IF(AND($F5=J$1,$G5=K$1,COUNTIF(J2:J4,">0")<=1),$F$5-$AQ$1,IF(AND($F5=J$1,$G5=K$1,COUNTIF(J2:J4,">0")>1),$F$5+$AQ$1,0)) -> 0 | K5: =IF(AND($F5=J$1,$G5=K$1,OR(COUNTIF(K2:K4,">0")=0,COUNTIF(K2:K4,">0")=3)),$G$5-$AQ$1,IF(AND($F5=J$1,$G5=K$1,OR(COUNTIF(K2:K4,">0")=1,COUNTIF(K2:K4,">0")=2)),$G$5+$AQ$1,0)) -> 0 | L5: =IF(AND($F5=L$1,$G5=M$1,COUNTIF(L2:L4,">0")<=1),$F$5-$AQ$1,IF(AND($F5=L$1,$G5=M$1,COUNTIF(L2:L4,">0")>1),$F$5+$AQ$1,0)) -> 0 | M5: =IF(AND($F5=L$1,$G5=M$1,OR(COUNTIF(M2:M4,">0")=0,COUNTIF(M2:M4,">0")=3)),$G$5-$AQ$1,IF(AND($F5=L$1,$G5=M$1,OR(COUNTIF(M2:M4,">0")=1,COUNTIF(M2:M4,">0")=2)),$G$5+$AQ$1,0)) -> 0 | N5: =IF(AND($F5=N$1,$G5=O$1,COUNTIF(N2:N4,">0")<=1),$F$5-$AQ$1,IF(AND($F5=N$1,$G5=O$1,COUNTIF(N2:N4,">0")>1),$F$5+$AQ$1,0)) -> 0 | O5: =IF(AND($F5=N$1,$G5=O$1,OR(COUNTIF(O2:O4,">0")=0,COUNTIF(O2:O4,">0")=3)),$G$5-$AQ$1,IF(AND($F5=N$1,$G5=O$1,OR(COUNTIF(O2:O4,">0")=1,COUNTIF(O2:O4,">0")=2)),$G$5+$AQ$1,0)) -> 0 | P5: =IF(AND($F5=P$1,$G5=Q$1,COUNTIF(P2:P4,">0")<=1),$F$5-$AQ$1,IF(AND($F5=P$1,$G5=Q$1,COUNTIF(P2:P4,">0")>1),$F$5+$AQ$1,0)) -> 0 | Q5: =IF(AND($F5=P$1,$G5=Q$1,OR(COUNTIF(Q2:Q4,">0")=0,COUNTIF(Q2:Q4,">0")=3)),$G$5-$AQ$1,IF(AND($F5=P$1,$G5=Q$1,OR(COUNTIF(Q2:Q4,">0")=1,COUNTIF(Q2:Q4,">0")=2)),$G$5+$AQ$1,0)) -> 0 | R5: =IF(AND($F5=R$1,$G5=S$1,COUNTIF(R2:R4,">0")<=1),$F$5-$AQ$1,IF(AND($F5=R$1,$G5=S$1,COUNTIF(R2:R4,">0")>1),$F$5+$AQ$1,0)) -> 0 | S5: =IF(AND($F5=R$1,$G5=S$1,OR(COUNTIF(S2:S4,">0")=0,COUNTIF(S2:S4,">0")=3)),$G$5-$AQ$1,IF(AND($F5=R$1,$G5=S$1,OR(COUNTIF(S2:S4,">0")=1,COUNTIF(S2:S4,">0")=2)),$G$5+$AQ$1,0)) -> 0 | T5: =IF(AND($F5=T$1,$G5=U$1,COUNTIF(T2:T4,">0")<=1),$F$5-$AQ$1,IF(AND($F5=T$1,$G5=U$1,COUNTIF(T2:T4,">0")>1),$F$5+$AQ$1,0)) -> 0 | U5: =IF(AND($F5=T$1,$G5=U$1,OR(COUNTIF(U2:U4,">0")=0,COUNTIF(U2:U4,">0")=3)),$G$5-$AQ$1,IF(AND($F5=T$1,$G5=U$1,OR(COUNTIF(U2:U4,">0")=1,COUNTIF(U2:U4,">0")=2)),$G$5+$AQ$1,0)) -> 0 | V5: =IF(AND($F5=V$1,$G5=W$1,COUNTIF(V2:V4,">0")<=1),$F$5-$AQ$1,IF(AND($F5=V$1,$G5=W$1,COUNTIF(V2:V4,">0")>1),$F$5+$AQ$1,0)) -> 0 | W5: =IF(AND($F5=V$1,$G5=W$1,OR(COUNTIF(W2:W4,">0")=0,COUNTIF(W2:W4,">0")=3)),$G$5-$AQ$1,IF(AND($F5=V$1,$G5=W$1,OR(COUNTIF(W2:W4,">0")=1,COUNTIF(W2:W4,">0")=2)),$G$5+$AQ$1,0)) -> 0 | X5: =IF(AND($F5=X$1,$G5=Y$1,COUNTIF(X2:X4,">0")<=1),$F$5-$AQ$1,IF(AND($F5=X$1,$G5=Y$1,COUNTIF(X2:X4,">0")>1),$F$5+$AQ$1,0)) -> 0 | Y5: =IF(AND($F5=X$1,$G5=Y$1,OR(COUNTIF(Y2:Y4,">0")=0,COUNTIF(Y2:Y4,">0")=3)),$G$5-$AQ$1,IF(AND($F5=X$1,$G5=Y$1,OR(COUNTIF(Y2:Y4,">0")=1,COUNTIF(Y2:Y4,">0")=2)),$G$5+$AQ$1,0)) -> 0 | Z5: =IF(AND($F5=Z$1,$G5=AA$1,COUNTIF(Z2:Z4,">0")<=1),$F$5-$AQ$1,IF(AND($F5=Z$1,$G5=AA$1,COUNTIF(Z2:Z4,">0")>1),$F$5+$AQ$1,0)) -> 0 | AA5: =IF(AND($F5=Z$1,$G5=AA$1,OR(COUNTIF(AA2:AA4,">0")=0,COUNTIF(AA2:AA4,">0")=3)),$G$5-$AQ$1,IF(AND($F5=Z$1,$G5=AA$1,OR(COUNTIF(AA2:AA4,">0")=1,COUNTIF(AA2:AA4,">0")=2)),$G$5+$AQ$1,0)) -> 0 | AB5: =IF(AND($F5=AB$1,$G5=AC$1,COUNTIF(AB2:AB4,">0")<=1),$F$5-$AQ$1,IF(AND($F5=AB$1,$G5=AC$1,COUNTIF(AB2:AB4,">0")>1),$F$5+$AQ$1,0)) -> 0 | AC5: =IF(AND($F5=AB$1,$G5=AC$1,OR(COUNTIF(AC2:AC4,">0")=0,COUNTIF(AC2:AC4,">0")=3)),$G$5-$AQ$1,IF(AND($F5=AB$1,$G5=AC$1,OR(COUNTIF(AC2:AC4,">0")=1,COUNTIF(AC2:AC4,">0")=2)),$G$5+$AQ$1,0)) -> 0 | AD5: =IF(AND($F5=AD$1,$G5=AE$1,COUNTIF(AD2:AD4,">0")<=1),$F$5-$AQ$1,IF(AND($F5=AD$1,$G5=AE$1,COUNTIF(AD2:AD4,">0")>1),$F$5+$AQ$1,0)) -> 0 | AE5: =IF(AND($F5=AD$1,$G5=AE$1,OR(COUNTIF(AE2:AE4,">0")=0,COUNTIF(AE2:AE4,">0")=3)),$G$5-$AQ$1,IF(AND($F5=AD$1,$G5=AE$1,OR(COUNTIF(AE2:AE4,">0")=1,COUNTIF(AE2:AE4,">0")=2)),$G$5+$AQ$1,0)) -> 0 | AF5: =IF(AND($F5=AF$1,$G5=AG$1,COUNTIF(AF2:AF4,">0")<=1),$F$5-$AQ$1,IF(AND($F5=AF$1,$G5=AG$1,COUNTIF(AF2:AF4,">0")>1),$F$5+$AQ$1,0)) -> 0 | AG5: =IF(AND($F5=AF$1,$G5=AG$1,OR(COUNTIF(AG2:AG4,">0")=0,COUNTIF(AG2:AG4,">0")=3)),$G$5-$AQ$1,IF(AND($F5=AF$1,$G5=AG$1,OR(COUNTIF(AG2:AG4,">0")=1,COUNTIF(AG2:AG4,">0")=2)),$G$5+$AQ$1,0)) -> 0 | AH5: =IF(AND($F5=AH$1,$G5=AI$1,COUNTIF(AH2:AH4,">0")<=1),$F$5-$AQ$1,IF(AND($F5=AH$1,$G5=AI$1,COUNTIF(AH2:AH4,">0")>1),$F$5+$AQ$1,0)) -> 0 | AI5: =IF(AND($F5=AH$1,$G5=AI$1,OR(COUNTIF(AI2:AI4,">0")=0,COUNTIF(AI2:AI4,">0")=3)),$G$5-$AQ$1,IF(AND($F5=AH$1,$G5=AI$1,OR(COUNTIF(AI2:AI4,">0")=1,COUNTIF(AI2:AI4,">0")=2)),$G$5+$AQ$1,0)) -> 0 | AJ5: =IF(AND($F5=AJ$1,$G5=AK$1,COUNTIF(AJ2:AJ4,">0")<=1),$F$5-$AQ$1,IF(AND($F5=AJ$1,$G5=AK$1,COUNTIF(AJ2:AJ4,">0")>1),$F$5+$AQ$1,0)) -> 0 | AK5: =IF(AND($F5=AJ$1,$G5=AK$1,OR(COUNTIF(AK2:AK4,">0")=0,COUNTIF(AK2:AK4,">0")=3)),$G$5-$AQ$1,IF(AND($F5=AJ$1,$G5=AK$1,OR(COUNTIF(AK2:AK4,">0")=1,COUNTIF(AK2:AK4,">0")=2)),$G$5+$AQ$1,0)) -> 0 | AL5: =IF(AND($F5=AL$1,$G5=AM$1,COUNTIF(AL2:AL4,">0")<=1),$F$5-$AQ$1,IF(AND($F5=AL$1,$G5=AM$1,COUNTIF(AL2:AL4,">0")>1),$F$5+$AQ$1,0)) -> 0 | AM5: =IF(AND($F5=AL$1,$G5=AM$1,OR(COUNTIF(AM2:AM4,">0")=0,COUNTIF(AM2:AM4,">0")=3)),$G$5-$AQ$1,IF(AND($F5=AL$1,$G5=AM$1,OR(COUNTIF(AM2:AM4,">0")=1,COUNTIF(AM2:AM4,">0")=2)),$G$5+$AQ$1,0)) -> 0 | AN5: =SUM(I5,K5,M5,O5,Q5,S5,U5,W5,Y5,AA5,AC5,AE5,AG5,AI5,AK5,AM5) -> 0 | AO5: =SUM(H5,J5,L5,N5,P5,R5,T5,V5,X5,Z5,AB5,AD5,AF5,AH5,AJ5,AL5) -> 0 | AP5: =IF(Projektspørgsmål!$BZ$27="","",Projektspørgsmål!$BZ$27)
C6: =IF(Projektspørgsmål!$CM$31=Projektspørgsmål!$IO$33,TRUE,FALSE) -> FALSE | D6: =IF(C6=TRUE,MAX(D2:D5)+1,0) -> 0 | E6: =Projektspørgsmål!CX2 -> Grønne kvaliteter | F6: =Projektspørgsmål!IW7 -> 0 | G6: =Projektspørgsmål!IW11 -> 0 | H6: =IF(AND($F6=H$1,$G6=I$1,COUNTIF(H2:H5,">0")<=1),$F$6-$AQ$1,IF(AND($F6=H$1,$G6=I$1,COUNTIF(H2:H5,">0")>1),$F$6+$AQ$1,0)) -> 0 | I6: =IF(AND($F6=H$1,$G6=I$1,OR(COUNTIF(I2:I5,">0")=0,COUNTIF(I2:I5,">0")=3)),$G$6-$AQ$1,IF(AND($F6=H$1,$G6=I$1,OR(COUNTIF(I2:I5,">0")=1,COUNTIF(I2:I5,">0")=2)),$G$6+$AQ$1,0)) -> 0 | J6: =IF(AND($F6=J$1,$G6=K$1,COUNTIF(J2:J5,">0")<=1),$F$6-$AQ$1,IF(AND($F6=J$1,$G6=K$1,COUNTIF(J2:J5,">0")>1),$F$6+$AQ$1,0)) -> 0 | K6: =IF(AND($F6=J$1,$G6=K$1,OR(COUNTIF(K2:K5,">0")=0,COUNTIF(K2:K5,">0")=3)),$G$6-$AQ$1,IF(AND($F6=J$1,$G6=K$1,OR(COUNTIF(K2:K5,">0")=1,COUNTIF(K2:K5,">0")=2)),$G$6+$AQ$1,0)) -> 0 | L6: =IF(AND($F6=L$1,$G6=M$1,COUNTIF(L2:L5,">0")<=1),$F$6-$AQ$1,IF(AND($F6=L$1,$G6=M$1,COUNTIF(L2:L5,">0")>1),$F$6+$AQ$1,0)) -> 0 | M6: =IF(AND($F6=L$1,$G6=M$1,OR(COUNTIF(M2:M5,">0")=0,COUNTIF(M2:M5,">0")=3)),$G$6-$AQ$1,IF(AND($F6=L$1,$G6=M$1,OR(COUNTIF(M2:M5,">0")=1,COUNTIF(M2:M5,">0")=2)),$G$6+$AQ$1,0)) -> 0 | N6: =IF(AND($F6=N$1,$G6=O$1,COUNTIF(N2:N5,">0")<=1),$F$6-$AQ$1,IF(AND($F6=N$1,$G6=O$1,COUNTIF(N2:N5,">0")>1),$F$6+$AQ$1,0)) -> 0 | O6: =IF(AND($F6=N$1,$G6=O$1,OR(COUNTIF(O2:O5,">0")=0,COUNTIF(O2:O5,">0")=3)),$G$6-$AQ$1,IF(AND($F6=N$1,$G6=O$1,OR(COUNTIF(O2:O5,">0")=1,COUNTIF(O2:O5,">0")=2)),$G$6+$AQ$1,0)) -> 0 | P6: =IF(AND($F6=P$1,$G6=Q$1,COUNTIF(P2:P5,">0")<=1),$F$6-$AQ$1,IF(AND($F6=P$1,$G6=Q$1,COUNTIF(P2:P5,">0")>1),$F$6+$AQ$1,0)) -> 0 | Q6: =IF(AND($F6=P$1,$G6=Q$1,OR(COUNTIF(Q2:Q5,">0")=0,COUNTIF(Q2:Q5,">0")=3)),$G$6-$AQ$1,IF(AND($F6=P$1,$G6=Q$1,OR(COUNTIF(Q2:Q5,">0")=1,COUNTIF(Q2:Q5,">0")=2)),$G$6+$AQ$1,0)) -> 0 | R6: =IF(AND($F6=R$1,$G6=S$1,COUNTIF(R2:R5,">0")<=1),$F$6-$AQ$1,IF(AND($F6=R$1,$G6=S$1,COUNTIF(R2:R5,">0")>1),$F$6+$AQ$1,0)) -> 0 | S6: =IF(AND($F6=R$1,$G6=S$1,OR(COUNTIF(S2:S5,">0")=0,COUNTIF(S2:S5,">0")=3)),$G$6-$AQ$1,IF(AND($F6=R$1,$G6=S$1,OR(COUNTIF(S2:S5,">0")=1,COUNTIF(S2:S5,">0")=2)),$G$6+$AQ$1,0)) -> 0 | T6: =IF(AND($F6=T$1,$G6=U$1,COUNTIF(T2:T5,">0")<=1),$F$6-$AQ$1,IF(AND($F6=T$1,$G6=U$1,COUNTIF(T2:T5,">0")>1),$F$6+$AQ$1,0)) -> 0 | U6: =IF(AND($F6=T$1,$G6=U$1,OR(COUNTIF(U2:U5,">0")=0,COUNTIF(U2:U5,">0")=3)),$G$6-$AQ$1,IF(AND($F6=T$1,$G6=U$1,OR(COUNTIF(U2:U5,">0")=1,COUNTIF(U2:U5,">0")=2)),$G$6+$AQ$1,0)) -> 0 | V6: =IF(AND($F6=V$1,$G6=W$1,COUNTIF(V2:V5,">0")<=1),$F$6-$AQ$1,IF(AND($F6=V$1,$G6=W$1,COUNTIF(V2:V5,">0")>1),$F$6+$AQ$1,0)) -> 0 | W6: =IF(AND($F6=V$1,$G6=W$1,OR(COUNTIF(W2:W5,">0")=0,COUNTIF(W2:W5,">0")=3)),$G$6-$AQ$1,IF(AND($F6=V$1,$G6=W$1,OR(COUNTIF(W2:W5,">0")=1,COUNTIF(W2:W5,">0")=2)),$G$6+$AQ$1,0)) -> 0 | X6: =IF(AND($F6=X$1,$G6=Y$1,COUNTIF(X2:X5,">0")<=1),$F$6-$AQ$1,IF(AND($F6=X$1,$G6=Y$1,COUNTIF(X2:X5,">0")>1),$F$6+$AQ$1,0)) -> 0 | Y6: =IF(AND($F6=X$1,$G6=Y$1,OR(COUNTIF(Y2:Y5,">0")=0,COUNTIF(Y2:Y5,">0")=3)),$G$6-$AQ$1,IF(AND($F6=X$1,$G6=Y$1,OR(COUNTIF(Y2:Y5,">0")=1,COUNTIF(Y2:Y5,">0")=2)),$G$6+$AQ$1,0)) -> 0 | Z6: =IF(AND($F6=Z$1,$G6=AA$1,COUNTIF(Z2:Z5,">0")<=1),$F$6-$AQ$1,IF(AND($F6=Z$1,$G6=AA$1,COUNTIF(Z2:Z5,">0")>1),$F$6+$AQ$1,0)) -> 0 | AA6: =IF(AND($F6=Z$1,$G6=AA$1,OR(COUNTIF(AA2:AA5,">0")=0,COUNTIF(AA2:AA5,">0")=3)),$G$6-$AQ$1,IF(AND($F6=Z$1,$G6=AA$1,OR(COUNTIF(AA2:AA5,">0")=1,COUNTIF(AA2:AA5,">0")=2)),$G$6+$AQ$1,0)) -> 0 | AB6: =IF(AND($F6=AB$1,$G6=AC$1,COUNTIF(AB2:AB5,">0")<=1),$F$6-$AQ$1,IF(AND($F6=AB$1,$G6=AC$1,COUNTIF(AB2:AB5,">0")>1),$F$6+$AQ$1,0)) -> 0 | AC6: =IF(AND($F6=AB$1,$G6=AC$1,OR(COUNTIF(AC2:AC5,">0")=0,COUNTIF(AC2:AC5,">0")=3)),$G$6-$AQ$1,IF(AND($F6=AB$1,$G6=AC$1,OR(COUNTIF(AC2:AC5,">0")=1,COUNTIF(AC2:AC5,">0")=2)),$G$6+$AQ$1,0)) -> 0 | AD6: =IF(AND($F6=AD$1,$G6=AE$1,COUNTIF(AD2:AD5,">0")<=1),$F$6-$AQ$1,IF(AND($F6=AD$1,$G6=AE$1,COUNTIF(AD2:AD5,">0")>1),$F$6+$AQ$1,0)) -> 0 | AE6: =IF(AND($F6=AD$1,$G6=AE$1,OR(COUNTIF(AE2:AE5,">0")=0,COUNTIF(AE2:AE5,">0")=3)),$G$6-$AQ$1,IF(AND($F6=AD$1,$G6=AE$1,OR(COUNTIF(AE2:AE5,">0")=1,COUNTIF(AE2:AE5,">0")=2)),$G$6+$AQ$1,0)) -> 0 | AF6: =IF(AND($F6=AF$1,$G6=AG$1,COUNTIF(AF2:AF5,">0")<=1),$F$6-$AQ$1,IF(AND($F6=AF$1,$G6=AG$1,COUNTIF(AF2:AF5,">0")>1),$F$6+$AQ$1,0)) -> 0 | AG6: =IF(AND($F6=AF$1,$G6=AG$1,OR(COUNTIF(AG2:AG5,">0")=0,COUNTIF(AG2:AG5,">0")=3)),$G$6-$AQ$1,IF(AND($F6=AF$1,$G6=AG$1,OR(COUNTIF(AG2:AG5,">0")=1,COUNTIF(AG2:AG5,">0")=2)),$G$6+$AQ$1,0)) -> 0 | AH6: =IF(AND($F6=AH$1,$G6=AI$1,COUNTIF(AH2:AH5,">0")<=1),$F$6-$AQ$1,IF(AND($F6=AH$1,$G6=AI$1,COUNTIF(AH2:AH5,">0")>1),$F$6+$AQ$1,0)) -> 0 | AI6: =IF(AND($F6=AH$1,$G6=AI$1,OR(COUNTIF(AI2:AI5,">0")=0,COUNTIF(AI2:AI5,">0")=3)),$G$6-$AQ$1,IF(AND($F6=AH$1,$G6=AI$1,OR(COUNTIF(AI2:AI5,">0")=1,COUNTIF(AI2:AI5,">0")=2)),$G$6+$AQ$1,0)) -> 0 | AJ6: =IF(AND($F6=AJ$1,$G6=AK$1,COUNTIF(AJ2:AJ5,">0")<=1),$F$6-$AQ$1,IF(AND($F6=AJ$1,$G6=AK$1,COUNTIF(AJ2:AJ5,">0")>1),$F$6+$AQ$1,0)) -> 0 | AK6: =IF(AND($F6=AJ$1,$G6=AK$1,OR(COUNTIF(AK2:AK5,">0")=0,COUNTIF(AK2:AK5,">0")=3)),$G$6-$AQ$1,IF(AND($F6=AJ$1,$G6=AK$1,OR(COUNTIF(AK2:AK5,">0")=1,COUNTIF(AK2:AK5,">0")=2)),$G$6+$AQ$1,0)) -> 0 | AL6: =IF(AND($F6=AL$1,$G6=AM$1,COUNTIF(AL2:AL5,">0")<=1),$F$6-$AQ$1,IF(AND($F6=AL$1,$G6=AM$1,COUNTIF(AL2:AL5,">0")>1),$F$6+$AQ$1,0)) -> 0 | AM6: =IF(AND($F6=AL$1,$G6=AM$1,OR(COUNTIF(AM2:AM5,">0")=0,COUNTIF(AM2:AM5,">0")=3)),$G$6-$AQ$1,IF(AND($F6=AL$1,$G6=AM$1,OR(COUNTIF(AM2:AM5,">0")=1,COUNTIF(AM2:AM5,">0")=2)),$G$6+$AQ$1,0)) -> 0 | AN6: =SUM(I6,K6,M6,O6,Q6,S6,U6,W6,Y6,AA6,AC6,AE6,AG6,AI6,AK6,AM6) -> 0 | AO6: =SUM(H6,J6,L6,N6,P6,R6,T6,V6,X6,Z6,AB6,AD6,AF6,AH6,AJ6,AL6) -> 0 | AP6: =IF(Projektspørgsmål!$CM$28="","",Projektspørgsmål!$CM$28) -> Inspiration og hjælp
C7: =IF(Projektspørgsmål!$CZ$31=Projektspørgsmål!$IO$33,TRUE,FALSE) -> FALSE | D7: =IF(C7=TRUE,MAX(D2:D6)+1,0) -> 0 | E7: =Projektspørgsmål!DK2 -> Blå kvaliteter | F7: =Projektspørgsmål!IY7 -> 0 | G7: =Projektspørgsmål!IY11 -> 0 | H7: =IF(AND($F7=H$1,$G7=I$1,COUNTIF(H2:H6,">0")<=1),$F$7-$AQ$1,IF(AND($F7=H$1,$G7=I$1,COUNTIF(H2:H6,">0")>1),$F$7+$AQ$1,0)) -> 0 | I7: =IF(AND($F7=H$1,$G7=I$1,OR(COUNTIF(I2:I6,">0")=0,COUNTIF(I2:I6,">0")=3)),$G$7-$AQ$1,IF(AND($F7=H$1,$G7=I$1,OR(COUNTIF(I2:I6,">0")=1,COUNTIF(I2:I6,">0")=2)),$G$7+$AQ$1,0)) -> 0 | J7: =IF(AND($F7=J$1,$G7=K$1,COUNTIF(J2:J6,">0")<=1),$F$7-$AQ$1,IF(AND($F7=J$1,$G7=K$1,COUNTIF(J2:J6,">0")>1),$F$7+$AQ$1,0)) -> 0 | K7: =IF(AND($F7=J$1,$G7=K$1,OR(COUNTIF(K2:K6,">0")=0,COUNTIF(K2:K6,">0")=3)),$G$7-$AQ$1,IF(AND($F7=J$1,$G7=K$1,OR(COUNTIF(K2:K6,">0")=1,COUNTIF(K2:K6,">0")=2)),$G$7+$AQ$1,0)) -> 0 | L7: =IF(AND($F7=L$1,$G7=M$1,COUNTIF(L2:L6,">0")<=1),$F$7-$AQ$1,IF(AND($F7=L$1,$G7=M$1,COUNTIF(L2:L6,">0")>1),$F$7+$AQ$1,0)) -> 0 | M7: =IF(AND($F7=L$1,$G7=M$1,OR(COUNTIF(M2:M6,">0")=0,COUNTIF(M2:M6,">0")=3)),$G$7-$AQ$1,IF(AND($F7=L$1,$G7=M$1,OR(COUNTIF(M2:M6,">0")=1,COUNTIF(M2:M6,">0")=2)),$G$7+$AQ$1,0)) -> 0 | N7: =IF(AND($F7=N$1,$G7=O$1,COUNTIF(N2:N6,">0")<=1),$F$7-$AQ$1,IF(AND($F7=N$1,$G7=O$1,COUNTIF(N2:N6,">0")>1),$F$7+$AQ$1,0)) -> 0 | O7: =IF(AND($F7=N$1,$G7=O$1,OR(COUNTIF(O2:O6,">0")=0,COUNTIF(O2:O6,">0")=3)),$G$7-$AQ$1,IF(AND($F7=N$1,$G7=O$1,OR(COUNTIF(O2:O6,">0")=1,COUNTIF(O2:O6,">0")=2)),$G$7+$AQ$1,0)) -> 0 | P7: =IF(AND($F7=P$1,$G7=Q$1,COUNTIF(P2:P6,">0")<=1),$F$7-$AQ$1,IF(AND($F7=P$1,$G7=Q$1,COUNTIF(P2:P6,">0")>1),$F$7+$AQ$1,0)) -> 0 | Q7: =IF(AND($F7=P$1,$G7=Q$1,OR(COUNTIF(Q2:Q6,">0")=0,COUNTIF(Q2:Q6,">0")=3)),$G$7-$AQ$1,IF(AND($F7=P$1,$G7=Q$1,OR(COUNTIF(Q2:Q6,">0")=1,COUNTIF(Q2:Q6,">0")=2)),$G$7+$AQ$1,0)) -> 0 | R7: =IF(AND($F7=R$1,$G7=S$1,COUNTIF(R2:R6,">0")<=1),$F$7-$AQ$1,IF(AND($F7=R$1,$G7=S$1,COUNTIF(R2:R6,">0")>1),$F$7+$AQ$1,0)) -> 0 | S7: =IF(AND($F7=R$1,$G7=S$1,OR(COUNTIF(S2:S6,">0")=0,COUNTIF(S2:S6,">0")=3)),$G$7-$AQ$1,IF(AND($F7=R$1,$G7=S$1,OR(COUNTIF(S2:S6,">0")=1,COUNTIF(S2:S6,">0")=2)),$G$7+$AQ$1,0)) -> 0 | T7: =IF(AND($F7=T$1,$G7=U$1,COUNTIF(T2:T6,">0")<=1),$F$7-$AQ$1,IF(AND($F7=T$1,$G7=U$1,COUNTIF(T2:T6,">0")>1),$F$7+$AQ$1,0)) -> 0 | U7: =IF(AND($F7=T$1,$G7=U$1,OR(COUNTIF(U2:U6,">0")=0,COUNTIF(U2:U6,">0")=3)),$G$7-$AQ$1,IF(AND($F7=T$1,$G7=U$1,OR(COUNTIF(U2:U6,">0")=1,COUNTIF(U2:U6,">0")=2)),$G$7+$AQ$1,0)) -> 0 | V7: =IF(AND($F7=V$1,$G7=W$1,COUNTIF(V2:V6,">0")<=1),$F$7-$AQ$1,IF(AND($F7=V$1,$G7=W$1,COUNTIF(V2:V6,">0")>1),$F$7+$AQ$1,0)) -> 0 | W7: =IF(AND($F7=V$1,$G7=W$1,OR(COUNTIF(W2:W6,">0")=0,COUNTIF(W2:W6,">0")=3)),$G$7-$AQ$1,IF(AND($F7=V$1,$G7=W$1,OR(COUNTIF(W2:W6,">0")=1,COUNTIF(W2:W6,">0")=2)),$G$7+$AQ$1,0)) -> 0 | X7: =IF(AND($F7=X$1,$G7=Y$1,COUNTIF(X2:X6,">0")<=1),$F$7-$AQ$1,IF(AND($F7=X$1,$G7=Y$1,COUNTIF(X2:X6,">0")>1),$F$7+$AQ$1,0)) -> 0 | Y7: =IF(AND($F7=X$1,$G7=Y$1,OR(COUNTIF(Y2:Y6,">0")=0,COUNTIF(Y2:Y6,">0")=3)),$G$7-$AQ$1,IF(AND($F7=X$1,$G7=Y$1,OR(COUNTIF(Y2:Y6,">0")=1,COUNTIF(Y2:Y6,">0")=2)),$G$7+$AQ$1,0)) -> 0 | Z7: =IF(AND($F7=Z$1,$G7=AA$1,COUNTIF(Z2:Z6,">0")<=1),$F$7-$AQ$1,IF(AND($F7=Z$1,$G7=AA$1,COUNTIF(Z2:Z6,">0")>1),$F$7+$AQ$1,0)) -> 0 | AA7: =IF(AND($F7=Z$1,$G7=AA$1,OR(COUNTIF(AA2:AA6,">0")=0,COUNTIF(AA2:AA6,">0")=3)),$G$7-$AQ$1,IF(AND($F7=Z$1,$G7=AA$1,OR(COUNTIF(AA2:AA6,">0")=1,COUNTIF(AA2:AA6,">0")=2)),$G$7+$AQ$1,0)) -> 0 | AB7: =IF(AND($F7=AB$1,$G7=AC$1,COUNTIF(AB2:AB6,">0")<=1),$F$7-$AQ$1,IF(AND($F7=AB$1,$G7=AC$1,COUNTIF(AB2:AB6,">0")>1),$F$7+$AQ$1,0)) -> 0 | AC7: =IF(AND($F7=AB$1,$G7=AC$1,OR(COUNTIF(AC2:AC6,">0")=0,COUNTIF(AC2:AC6,">0")=3)),$G$7-$AQ$1,IF(AND($F7=AB$1,$G7=AC$1,OR(COUNTIF(AC2:AC6,">0")=1,COUNTIF(AC2:AC6,">0")=2)),$G$7+$AQ$1,0)) -> 0 | AD7: =IF(AND($F7=AD$1,$G7=AE$1,COUNTIF(AD2:AD6,">0")<=1),$F$7-$AQ$1,IF(AND($F7=AD$1,$G7=AE$1,COUNTIF(AD2:AD6,">0")>1),$F$7+$AQ$1,0)) -> 0 | AE7: =IF(AND($F7=AD$1,$G7=AE$1,OR(COUNTIF(AE2:AE6,">0")=0,COUNTIF(AE2:AE6,">0")=3)),$G$7-$AQ$1,IF(AND($F7=AD$1,$G7=AE$1,OR(COUNTIF(AE2:AE6,">0")=1,COUNTIF(AE2:AE6,">0")=2)),$G$7+$AQ$1,0)) -> 0 | AF7: =IF(AND($F7=AF$1,$G7=AG$1,COUNTIF(AF2:AF6,">0")<=1),$F$7-$AQ$1,IF(AND($F7=AF$1,$G7=AG$1,COUNTIF(AF2:AF6,">0")>1),$F$7+$AQ$1,0)) -> 0 | AG7: =IF(AND($F7=AF$1,$G7=AG$1,OR(COUNTIF(AG2:AG6,">0")=0,COUNTIF(AG2:AG6,">0")=3)),$G$7-$AQ$1,IF(AND($F7=AF$1,$G7=AG$1,OR(COUNTIF(AG2:AG6,">0")=1,COUNTIF(AG2:AG6,">0")=2)),$G$7+$AQ$1,0)) -> 0 | AH7: =IF(AND($F7=AH$1,$G7=AI$1,COUNTIF(AH2:AH6,">0")<=1),$F$7-$AQ$1,IF(AND($F7=AH$1,$G7=AI$1,COUNTIF(AH2:AH6,">0")>1),$F$7+$AQ$1,0)) -> 0 | AI7: =IF(AND($F7=AH$1,$G7=AI$1,OR(COUNTIF(AI2:AI6,">0")=0,COUNTIF(AI2:AI6,">0")=3)),$G$7-$AQ$1,IF(AND($F7=AH$1,$G7=AI$1,OR(COUNTIF(AI2:AI6,">0")=1,COUNTIF(AI2:AI6,">0")=2)),$G$7+$AQ$1,0)) -> 0 | AJ7: =IF(AND($F7=AJ$1,$G7=AK$1,COUNTIF(AJ2:AJ6,">0")<=1),$F$7-$AQ$1,IF(AND($F7=AJ$1,$G7=AK$1,COUNTIF(AJ2:AJ6,">0")>1),$F$7+$AQ$1,0)) -> 0 | AK7: =IF(AND($F7=AJ$1,$G7=AK$1,OR(COUNTIF(AK2:AK6,">0")=0,COUNTIF(AK2:AK6,">0")=3)),$G$7-$AQ$1,IF(AND($F7=AJ$1,$G7=AK$1,OR(COUNTIF(AK2:AK6,">0")=1,COUNTIF(AK2:AK6,">0")=2)),$G$7+$AQ$1,0)) -> 0 | AL7: =IF(AND($F7=AL$1,$G7=AM$1,COUNTIF(AL2:AL6,">0")<=1),$F$7-$AQ$1,IF(AND($F7=AL$1,$G7=AM$1,COUNTIF(AL2:AL6,">0")>1),$F$7+$AQ$1,0)) -> 0 | AM7: =IF(AND($F7=AL$1,$G7=AM$1,OR(COUNTIF(AM2:AM6,">0")=0,COUNTIF(AM2:AM6,">0")=3)),$G$7-$AQ$1,IF(AND($F7=AL$1,$G7=AM$1,OR(COUNTIF(AM2:AM6,">0")=1,COUNTIF(AM2:AM6,">0")=2)),$G$7+$AQ$1,0)) -> 0 | AN7: =SUM(I7,K7,M7,O7,Q7,S7,U7,W7,Y7,AA7,AC7,AE7,AG7,AI7,AK7,AM7) -> 0 | AO7: =SUM(H7,J7,L7,N7,P7,R7,T7,V7,X7,Z7,AB7,AD7,AF7,AH7,AJ7,AL7) -> 0 | AP7: =IF(Projektspørgsmål!$CZ$28="","",Projektspørgsmål!$CZ$28) -> Inspiration og hjælp
C8: =IF(Projektspørgsmål!$DM$30=Projektspørgsmål!$IO$33,TRUE,FALSE) -> FALSE | D8: =IF(C8=TRUE,MAX(D2:D7)+1,0) -> 0 | E8: =Projektspørgsmål!DX2 -> Forbindelser | F8: =Projektspørgsmål!JA7 -> 0 | G8: =Projektspørgsmål!JA11 -> 0 | H8: =IF(AND($F8=H$1,$G8=I$1,COUNTIF(H2:H7,">0")<=1),$F$8-$AQ$1,IF(AND($F8=H$1,$G8=I$1,COUNTIF(H2:H7,">0")>1),$F$8+$AQ$1,0)) -> 0 | I8: =IF(AND($F8=H$1,$G8=I$1,OR(COUNTIF(I2:I7,">0")=0,COUNTIF(I2:I7,">0")=3)),$G$8-$AQ$1,IF(AND($F8=H$1,$G8=I$1,OR(COUNTIF(I2:I7,">0")=1,COUNTIF(I2:I7,">0")=2)),$G$8+$AQ$1,0)) -> 0 | J8: =IF(AND($F8=J$1,$G8=K$1,COUNTIF(J2:J7,">0")<=1),$F$8-$AQ$1,IF(AND($F8=J$1,$G8=K$1,COUNTIF(J2:J7,">0")>1),$F$8+$AQ$1,0)) -> 0 | K8: =IF(AND($F8=J$1,$G8=K$1,OR(COUNTIF(K2:K7,">0")=0,COUNTIF(K2:K7,">0")=3)),$G$8-$AQ$1,IF(AND($F8=J$1,$G8=K$1,OR(COUNTIF(K2:K7,">0")=1,COUNTIF(K2:K7,">0")=2)),$G$8+$AQ$1,0)) -> 0 | L8: =IF(AND($F8=L$1,$G8=M$1,COUNTIF(L2:L7,">0")<=1),$F$8-$AQ$1,IF(AND($F8=L$1,$G8=M$1,COUNTIF(L2:L7,">0")>1),$F$8+$AQ$1,0)) -> 0 | M8: =IF(AND($F8=L$1,$G8=M$1,OR(COUNTIF(M2:M7,">0")=0,COUNTIF(M2:M7,">0")=3)),$G$8-$AQ$1,IF(AND($F8=L$1,$G8=M$1,OR(COUNTIF(M2:M7,">0")=1,COUNTIF(M2:M7,">0")=2)),$G$8+$AQ$1,0)) -> 0 | N8: =IF(AND($F8=N$1,$G8=O$1,COUNTIF(N2:N7,">0")<=1),$F$8-$AQ$1,IF(AND($F8=N$1,$G8=O$1,COUNTIF(N2:N7,">0")>1),$F$8+$AQ$1,0)) -> 0 | O8: =IF(AND($F8=N$1,$G8=O$1,OR(COUNTIF(O2:O7,">0")=0,COUNTIF(O2:O7,">0")=3)),$G$8-$AQ$1,IF(AND($F8=N$1,$G8=O$1,OR(COUNTIF(O2:O7,">0")=1,COUNTIF(O2:O7,">0")=2)),$G$8+$AQ$1,0)) -> 0 | P8: =IF(AND($F8=P$1,$G8=Q$1,COUNTIF(P2:P7,">0")<=1),$F$8-$AQ$1,IF(AND($F8=P$1,$G8=Q$1,COUNTIF(P2:P7,">0")>1),$F$8+$AQ$1,0)) -> 0 | Q8: =IF(AND($F8=P$1,$G8=Q$1,OR(COUNTIF(Q2:Q7,">0")=0,COUNTIF(Q2:Q7,">0")=3)),$G$8-$AQ$1,IF(AND($F8=P$1,$G8=Q$1,OR(COUNTIF(Q2:Q7,">0")=1,COUNTIF(Q2:Q7,">0")=2)),$G$8+$AQ$1,0)) -> 0 | R8: =IF(AND($F8=R$1,$G8=S$1,COUNTIF(R2:R7,">0")<=1),$F$8-$AQ$1,IF(AND($F8=R$1,$G8=S$1,COUNTIF(R2:R7,">0")>1),$F$8+$AQ$1,0)) -> 0 | S8: =IF(AND($F8=R$1,$G8=S$1,OR(COUNTIF(S2:S7,">0")=0,COUNTIF(S2:S7,">0")=3)),$G$8-$AQ$1,IF(AND($F8=R$1,$G8=S$1,OR(COUNTIF(S2:S7,">0")=1,COUNTIF(S2:S7,">0")=2)),$G$8+$AQ$1,0)) -> 0 | T8: =IF(AND($F8=T$1,$G8=U$1,COUNTIF(T2:T7,">0")<=1),$F$8-$AQ$1,IF(AND($F8=T$1,$G8=U$1,COUNTIF(T2:T7,">0")>1),$F$8+$AQ$1,0)) -> 0 | U8: =IF(AND($F8=T$1,$G8=U$1,OR(COUNTIF(U2:U7,">0")=0,COUNTIF(U2:U7,">0")=3)),$G$8-$AQ$1,IF(AND($F8=T$1,$G8=U$1,OR(COUNTIF(U2:U7,">0")=1,COUNTIF(U2:U7,">0")=2)),$G$8+$AQ$1,0)) -> 0 | V8: =IF(AND($F8=V$1,$G8=W$1,COUNTIF(V2:V7,">0")<=1),$F$8-$AQ$1,IF(AND($F8=V$1,$G8=W$1,COUNTIF(V2:V7,">0")>1),$F$8+$AQ$1,0)) -> 0 | W8: =IF(AND($F8=V$1,$G8=W$1,OR(COUNTIF(W2:W7,">0")=0,COUNTIF(W2:W7,">0")=3)),$G$8-$AQ$1,IF(AND($F8=V$1,$G8=W$1,OR(COUNTIF(W2:W7,">0")=1,COUNTIF(W2:W7,">0")=2)),$G$8+$AQ$1,0)) -> 0 | X8: =IF(AND($F8=X$1,$G8=Y$1,COUNTIF(X2:X7,">0")<=1),$F$8-$AQ$1,IF(AND($F8=X$1,$G8=Y$1,COUNTIF(X2:X7,">0")>1),$F$8+$AQ$1,0)) -> 0 | Y8: =IF(AND($F8=X$1,$G8=Y$1,OR(COUNTIF(Y2:Y7,">0")=0,COUNTIF(Y2:Y7,">0")=3)),$G$8-$AQ$1,IF(AND($F8=X$1,$G8=Y$1,OR(COUNTIF(Y2:Y7,">0")=1,COUNTIF(Y2:Y7,">0")=2)),$G$8+$AQ$1,0)) -> 0 | Z8: =IF(AND($F8=Z$1,$G8=AA$1,COUNTIF(Z2:Z7,">0")<=1),$F$8-$AQ$1,IF(AND($F8=Z$1,$G8=AA$1,COUNTIF(Z2:Z7,">0")>1),$F$8+$AQ$1,0)) -> 0 | AA8: =IF(AND($F8=Z$1,$G8=AA$1,OR(COUNTIF(AA2:AA7,">0")=0,COUNTIF(AA2:AA7,">0")=3)),$G$8-$AQ$1,IF(AND($F8=Z$1,$G8=AA$1,OR(COUNTIF(AA2:AA7,">0")=1,COUNTIF(AA2:AA7,">0")=2)),$G$8+$AQ$1,0)) -> 0 | AB8: =IF(AND($F8=AB$1,$G8=AC$1,COUNTIF(AB2:AB7,">0")<=1),$F$8-$AQ$1,IF(AND($F8=AB$1,$G8=AC$1,COUNTIF(AB2:AB7,">0")>1),$F$8+$AQ$1,0)) -> 0 | AC8: =IF(AND($F8=AB$1,$G8=AC$1,OR(COUNTIF(AC2:AC7,">0")=0,COUNTIF(AC2:AC7,">0")=3)),$G$8-$AQ$1,IF(AND($F8=AB$1,$G8=AC$1,OR(COUNTIF(AC2:AC7,">0")=1,COUNTIF(AC2:AC7,">0")=2)),$G$8+$AQ$1,0)) -> 0 | AD8: =IF(AND($F8=AD$1,$G8=AE$1,COUNTIF(AD2:AD7,">0")<=1),$F$8-$AQ$1,IF(AND($F8=AD$1,$G8=AE$1,COUNTIF(AD2:AD7,">0")>1),$F$8+$AQ$1,0)) -> 0 | AE8: =IF(AND($F8=AD$1,$G8=AE$1,OR(COUNTIF(AE2:AE7,">0")=0,COUNTIF(AE2:AE7,">0")=3)),$G$8-$AQ$1,IF(AND($F8=AD$1,$G8=AE$1,OR(COUNTIF(AE2:AE7,">0")=1,COUNTIF(AE2:AE7,">0")=2)),$G$8+$AQ$1,0)) -> 0 | AF8: =IF(AND($F8=AF$1,$G8=AG$1,COUNTIF(AF2:AF7,">0")<=1),$F$8-$AQ$1,IF(AND($F8=AF$1,$G8=AG$1,COUNTIF(AF2:AF7,">0")>1),$F$8+$AQ$1,0)) -> 0 | AG8: =IF(AND($F8=AF$1,$G8=AG$1,OR(COUNTIF(AG2:AG7,">0")=0,COUNTIF(AG2:AG7,">0")=3)),$G$8-$AQ$1,IF(AND($F8=AF$1,$G8=AG$1,OR(COUNTIF(AG2:AG7,">0")=1,COUNTIF(AG2:AG7,">0")=2)),$G$8+$AQ$1,0)) -> 0 | AH8: =IF(AND($F8=AH$1,$G8=AI$1,COUNTIF(AH2:AH7,">0")<=1),$F$8-$AQ$1,IF(AND($F8=AH$1,$G8=AI$1,COUNTIF(AH2:AH7,">0")>1),$F$8+$AQ$1,0)) -> 0 | AI8: =IF(AND($F8=AH$1,$G8=AI$1,OR(COUNTIF(AI2:AI7,">0")=0,COUNTIF(AI2:AI7,">0")=3)),$G$8-$AQ$1,IF(AND($F8=AH$1,$G8=AI$1,OR(COUNTIF(AI2:AI7,">0")=1,COUNTIF(AI2:AI7,">0")=2)),$G$8+$AQ$1,0)) -> 0 | AJ8: =IF(AND($F8=AJ$1,$G8=AK$1,COUNTIF(AJ2:AJ7,">0")<=1),$F$8-$AQ$1,IF(AND($F8=AJ$1,$G8=AK$1,COUNTIF(AJ2:AJ7,">0")>1),$F$8+$AQ$1,0)) -> 0 | AK8: =IF(AND($F8=AJ$1,$G8=AK$1,OR(COUNTIF(AK2:AK7,">0")=0,COUNTIF(AK2:AK7,">0")=3)),$G$8-$AQ$1,IF(AND($F8=AJ$1,$G8=AK$1,OR(COUNTIF(AK2:AK7,">0")=1,COUNTIF(AK2:AK7,">0")=2)),$G$8+$AQ$1,0)) -> 0 | AL8: =IF(AND($F8=AL$1,$G8=AM$1,COUNTIF(AL2:AL7,">0")<=1),$F$8-$AQ$1,IF(AND($F8=AL$1,$G8=AM$1,COUNTIF(AL2:AL7,">0")>1),$F$8+$AQ$1,0)) -> 0 | AM8: =IF(AND($F8=AL$1,$G8=AM$1,OR(COUNTIF(AM2:AM7,">0")=0,COUNTIF(AM2:AM7,">0")=3)),$G$8-$AQ$1,IF(AND($F8=AL$1,$G8=AM$1,OR(COUNTIF(AM2:AM7,">0")=1,COUNTIF(AM2:AM7,">0")=2)),$G$8+$AQ$1,0)) -> 0 | AN8: =SUM(I8,K8,M8,O8,Q8,S8,U8,W8,Y8,AA8,AC8,AE8,AG8,AI8,AK8,AM8) -> 0 | AO8: =SUM(H8,J8,L8,N8,P8,R8,T8,V8,X8,Z8,AB8,AD8,AF8,AH8,AJ8,AL8) -> 0 | AP8: =IF(Projektspørgsmål!$DM$27="","",Projektspørgsmål!$DM$27)
C9: =IF(Projektspørgsmål!$DZ$30=Projektspørgsmål!$IO$33,TRUE,FALSE) -> FALSE | D9: =IF(C9=TRUE,MAX(D2:D8)+1,0) -> 0 | E9: =Projektspørgsmål!EK2 -> Cykelservice | F9: =Projektspørgsmål!JC7 -> 0 | G9: =Projektspørgsmål!JC11 -> 0 | H9: =IF(AND($F9=H$1,$G9=I$1,COUNTIF(H2:H8,">0")<=1),$F$9-$AQ$1,IF(AND($F9=H$1,$G9=I$1,COUNTIF(H2:H8,">0")>1),$F$9+$AQ$1,0)) -> 0 | I9: =IF(AND($F9=H$1,$G9=I$1,OR(COUNTIF(I2:I8,">0")=0,COUNTIF(I2:I8,">0")=3)),$G$9-$AQ$1,IF(AND($F9=H$1,$G9=I$1,OR(COUNTIF(I2:I8,">0")=1,COUNTIF(I2:I8,">0")=2)),$G$9+$AQ$1,0)) -> 0 | J9: =IF(AND($F9=J$1,$G9=K$1,COUNTIF(J2:J8,">0")<=1),$F$9-$AQ$1,IF(AND($F9=J$1,$G9=K$1,COUNTIF(J2:J8,">0")>1),$F$9+$AQ$1,0)) -> 0 | K9: =IF(AND($F9=J$1,$G9=K$1,OR(COUNTIF(K2:K8,">0")=0,COUNTIF(K2:K8,">0")=3)),$G$9-$AQ$1,IF(AND($F9=J$1,$G9=K$1,OR(COUNTIF(K2:K8,">0")=1,COUNTIF(K2:K8,">0")=2)),$G$9+$AQ$1,0)) -> 0 | L9: =IF(AND($F9=L$1,$G9=M$1,COUNTIF(L2:L8,">0")<=1),$F$9-$AQ$1,IF(AND($F9=L$1,$G9=M$1,COUNTIF(L2:L8,">0")>1),$F$9+$AQ$1,0)) -> 0 | M9: =IF(AND($F9=L$1,$G9=M$1,OR(COUNTIF(M2:M8,">0")=0,COUNTIF(M2:M8,">0")=3)),$G$9-$AQ$1,IF(AND($F9=L$1,$G9=M$1,OR(COUNTIF(M2:M8,">0")=1,COUNTIF(M2:M8,">0")=2)),$G$9+$AQ$1,0)) -> 0 | N9: =IF(AND($F9=N$1,$G9=O$1,COUNTIF(N2:N8,">0")<=1),$F$9-$AQ$1,IF(AND($F9=N$1,$G9=O$1,COUNTIF(N2:N8,">0")>1),$F$9+$AQ$1,0)) -> 0 | O9: =IF(AND($F9=N$1,$G9=O$1,OR(COUNTIF(O2:O8,">0")=0,COUNTIF(O2:O8,">0")=3)),$G$9-$AQ$1,IF(AND($F9=N$1,$G9=O$1,OR(COUNTIF(O2:O8,">0")=1,COUNTIF(O2:O8,">0")=2)),$G$9+$AQ$1,0)) -> 0 | P9: =IF(AND($F9=P$1,$G9=Q$1,COUNTIF(P2:P8,">0")<=1),$F$9-$AQ$1,IF(AND($F9=P$1,$G9=Q$1,COUNTIF(P2:P8,">0")>1),$F$9+$AQ$1,0)) -> 0 | Q9: =IF(AND($F9=P$1,$G9=Q$1,OR(COUNTIF(Q2:Q8,">0")=0,COUNTIF(Q2:Q8,">0")=3)),$G$9-$AQ$1,IF(AND($F9=P$1,$G9=Q$1,OR(COUNTIF(Q2:Q8,">0")=1,COUNTIF(Q2:Q8,">0")=2)),$G$9+$AQ$1,0)) -> 0 | R9: =IF(AND($F9=R$1,$G9=S$1,COUNTIF(R2:R8,">0")<=1),$F$9-$AQ$1,IF(AND($F9=R$1,$G9=S$1,COUNTIF(R2:R8,">0")>1),$F$9+$AQ$1,0)) -> 0 | S9: =IF(AND($F9=R$1,$G9=S$1,OR(COUNTIF(S2:S8,">0")=0,COUNTIF(S2:S8,">0")=3)),$G$9-$AQ$1,IF(AND($F9=R$1,$G9=S$1,OR(COUNTIF(S2:S8,">0")=1,COUNTIF(S2:S8,">0")=2)),$G$9+$AQ$1,0)) -> 0 | T9: =IF(AND($F9=T$1,$G9=U$1,COUNTIF(T2:T8,">0")<=1),$F$9-$AQ$1,IF(AND($F9=T$1,$G9=U$1,COUNTIF(T2:T8,">0")>1),$F$9+$AQ$1,0)) -> 0 | U9: =IF(AND($F9=T$1,$G9=U$1,OR(COUNTIF(U2:U8,">0")=0,COUNTIF(U2:U8,">0")=3)),$G$9-$AQ$1,IF(AND($F9=T$1,$G9=U$1,OR(COUNTIF(U2:U8,">0")=1,COUNTIF(U2:U8,">0")=2)),$G$9+$AQ$1,0)) -> 0 | V9: =IF(AND($F9=V$1,$G9=W$1,COUNTIF(V2:V8,">0")<=1),$F$9-$AQ$1,IF(AND($F9=V$1,$G9=W$1,COUNTIF(V2:V8,">0")>1),$F$9+$AQ$1,0)) -> 0 | W9: =IF(AND($F9=V$1,$G9=W$1,OR(COUNTIF(W2:W8,">0")=0,COUNTIF(W2:W8,">0")=3)),$G$9-$AQ$1,IF(AND($F9=V$1,$G9=W$1,OR(COUNTIF(W2:W8,">0")=1,COUNTIF(W2:W8,">0")=2)),$G$9+$AQ$1,0)) -> 0 | X9: =IF(AND($F9=X$1,$G9=Y$1,COUNTIF(X2:X8,">0")<=1),$F$9-$AQ$1,IF(AND($F9=X$1,$G9=Y$1,COUNTIF(X2:X8,">0")>1),$F$9+$AQ$1,0)) -> 0 | Y9: =IF(AND($F9=X$1,$G9=Y$1,OR(COUNTIF(Y2:Y8,">0")=0,COUNTIF(Y2:Y8,">0")=3)),$G$9-$AQ$1,IF(AND($F9=X$1,$G9=Y$1,OR(COUNTIF(Y2:Y8,">0")=1,COUNTIF(Y2:Y8,">0")=2)),$G$9+$AQ$1,0)) -> 0 | Z9: =IF(AND($F9=Z$1,$G9=AA$1,COUNTIF(Z2:Z8,">0")<=1),$F$9-$AQ$1,IF(AND($F9=Z$1,$G9=AA$1,COUNTIF(Z2:Z8,">0")>1),$F$9+$AQ$1,0)) -> 0 | AA9: =IF(AND($F9=Z$1,$G9=AA$1,OR(COUNTIF(AA2:AA8,">0")=0,COUNTIF(AA2:AA8,">0")=3)),$G$9-$AQ$1,IF(AND($F9=Z$1,$G9=AA$1,OR(COUNTIF(AA2:AA8,">0")=1,COUNTIF(AA2:AA8,">0")=2)),$G$9+$AQ$1,0)) -> 0 | AB9: =IF(AND($F9=AB$1,$G9=AC$1,COUNTIF(AB2:AB8,">0")<=1),$F$9-$AQ$1,IF(AND($F9=AB$1,$G9=AC$1,COUNTIF(AB2:AB8,">0")>1),$F$9+$AQ$1,0)) -> 0 | AC9: =IF(AND($F9=AB$1,$G9=AC$1,OR(COUNTIF(AC2:AC8,">0")=0,COUNTIF(AC2:AC8,">0")=3)),$G$9-$AQ$1,IF(AND($F9=AB$1,$G9=AC$1,OR(COUNTIF(AC2:AC8,">0")=1,COUNTIF(AC2:AC8,">0")=2)),$G$9+$AQ$1,0)) -> 0 | AD9: =IF(AND($F9=AD$1,$G9=AE$1,COUNTIF(AD2:AD8,">0")<=1),$F$9-$AQ$1,IF(AND($F9=AD$1,$G9=AE$1,COUNTIF(AD2:AD8,">0")>1),$F$9+$AQ$1,0)) -> 0 | AE9: =IF(AND($F9=AD$1,$G9=AE$1,OR(COUNTIF(AE2:AE8,">0")=0,COUNTIF(AE2:AE8,">0")=3)),$G$9-$AQ$1,IF(AND($F9=AD$1,$G9=AE$1,OR(COUNTIF(AE2:AE8,">0")=1,COUNTIF(AE2:AE8,">0")=2)),$G$9+$AQ$1,0)) -> 0 | AF9: =IF(AND($F9=AF$1,$G9=AG$1,COUNTIF(AF2:AF8,">0")<=1),$F$9-$AQ$1,IF(AND($F9=AF$1,$G9=AG$1,COUNTIF(AF2:AF8,">0")>1),$F$9+$AQ$1,0)) -> 0 | AG9: =IF(AND($F9=AF$1,$G9=AG$1,OR(COUNTIF(AG2:AG8,">0")=0,COUNTIF(AG2:AG8,">0")=3)),$G$9-$AQ$1,IF(AND($F9=AF$1,$G9=AG$1,OR(COUNTIF(AG2:AG8,">0")=1,COUNTIF(AG2:AG8,">0")=2)),$G$9+$AQ$1,0)) -> 0 | AH9: =IF(AND($F9=AH$1,$G9=AI$1,COUNTIF(AH2:AH8,">0")<=1),$F$9-$AQ$1,IF(AND($F9=AH$1,$G9=AI$1,COUNTIF(AH2:AH8,">0")>1),$F$9+$AQ$1,0)) -> 0 | AI9: =IF(AND($F9=AH$1,$G9=AI$1,OR(COUNTIF(AI2:AI8,">0")=0,COUNTIF(AI2:AI8,">0")=3)),$G$9-$AQ$1,IF(AND($F9=AH$1,$G9=AI$1,OR(COUNTIF(AI2:AI8,">0")=1,COUNTIF(AI2:AI8,">0")=2)),$G$9+$AQ$1,0)) -> 0 | AJ9: =IF(AND($F9=AJ$1,$G9=AK$1,COUNTIF(AJ2:AJ8,">0")<=1),$F$9-$AQ$1,IF(AND($F9=AJ$1,$G9=AK$1,COUNTIF(AJ2:AJ8,">0")>1),$F$9+$AQ$1,0)) -> 0 | AK9: =IF(AND($F9=AJ$1,$G9=AK$1,OR(COUNTIF(AK2:AK8,">0")=0,COUNTIF(AK2:AK8,">0")=3)),$G$9-$AQ$1,IF(AND($F9=AJ$1,$G9=AK$1,OR(COUNTIF(AK2:AK8,">0")=1,COUNTIF(AK2:AK8,">0")=2)),$G$9+$AQ$1,0)) -> 0 | AL9: =IF(AND($F9=AL$1,$G9=AM$1,COUNTIF(AL2:AL8,">0")<=1),$F$9-$AQ$1,IF(AND($F9=AL$1,$G9=AM$1,COUNTIF(AL2:AL8,">0")>1),$F$9+$AQ$1,0)) -> 0 | AM9: =IF(AND($F9=AL$1,$G9=AM$1,OR(COUNTIF(AM2:AM8,">0")=0,COUNTIF(AM2:AM8,">0")=3)),$G$9-$AQ$1,IF(AND($F9=AL$1,$G9=AM$1,OR(COUNTIF(AM2:AM8,">0")=1,COUNTIF(AM2:AM8,">0")=2)),$G$9+$AQ$1,0)) -> 0 | AN9: =SUM(I9,K9,M9,O9,Q9,S9,U9,W9,Y9,AA9,AC9,AE9,AG9,AI9,AK9,AM9) -> 0 | AO9: =SUM(H9,J9,L9,N9,P9,R9,T9,V9,X9,Z9,AB9,AD9,AF9,AH9,AJ9,AL9) -> 0 | AP9: =IF(Projektspørgsmål!$DZ$27="","",Projektspørgsmål!$DZ$27)
C10: =IF(Projektspørgsmål!$EM$30=Projektspørgsmål!$IO$33,TRUE,FALSE) -> FALSE | D10: =IF(C10=TRUE,MAX(D2:D9)+1,0) -> 0 | E10: =Projektspørgsmål!EX2 -> Parkeringsanlæg | F10: =Projektspørgsmål!JE7 -> 0 | G10: =Projektspørgsmål!JE11 -> 0 | H10: =IF(AND($F10=H$1,$G10=I$1,COUNTIF(H2:H9,">0")<=1),$F$10-$AQ$1,IF(AND($F10=H$1,$G10=I$1,COUNTIF(H2:H9,">0")>1),$F$10+$AQ$1,0)) -> 0 | I10: =IF(AND($F10=H$1,$G10=I$1,OR(COUNTIF(I2:I9,">0")=0,COUNTIF(I2:I9,">0")=3)),$G$10-$AQ$1,IF(AND($F10=H$1,$G10=I$1,OR(COUNTIF(I2:I9,">0")=1,COUNTIF(I2:I9,">0")=2)),$G$10+$AQ$1,0)) -> 0 | J10: =IF(AND($F10=J$1,$G10=K$1,COUNTIF(J2:J9,">0")<=1),$F$10-$AQ$1,IF(AND($F10=J$1,$G10=K$1,COUNTIF(J2:J9,">0")>1),$F$10+$AQ$1,0)) -> 0 | K10: =IF(AND($F10=J$1,$G10=K$1,OR(COUNTIF(K2:K9,">0")=0,COUNTIF(K2:K9,">0")=3)),$G$10-$AQ$1,IF(AND($F10=J$1,$G10=K$1,OR(COUNTIF(K2:K9,">0")=1,COUNTIF(K2:K9,">0")=2)),$G$10+$AQ$1,0)) -> 0 | L10: =IF(AND($F10=L$1,$G10=M$1,COUNTIF(L2:L9,">0")<=1),$F$10-$AQ$1,IF(AND($F10=L$1,$G10=M$1,COUNTIF(L2:L9,">0")>1),$F$10+$AQ$1,0)) -> 0 | M10: =IF(AND($F10=L$1,$G10=M$1,OR(COUNTIF(M2:M9,">0")=0,COUNTIF(M2:M9,">0")=3)),$G$10-$AQ$1,IF(AND($F10=L$1,$G10=M$1,OR(COUNTIF(M2:M9,">0")=1,COUNTIF(M2:M9,">0")=2)),$G$10+$AQ$1,0)) -> 0 | N10: =IF(AND($F10=N$1,$G10=O$1,COUNTIF(N2:N9,">0")<=1),$F$10-$AQ$1,IF(AND($F10=N$1,$G10=O$1,COUNTIF(N2:N9,">0")>1),$F$10+$AQ$1,0)) -> 0 | O10: =IF(AND($F10=N$1,$G10=O$1,OR(COUNTIF(O2:O9,">0")=0,COUNTIF(O2:O9,">0")=3)),$G$10-$AQ$1,IF(AND($F10=N$1,$G10=O$1,OR(COUNTIF(O2:O9,">0")=1,COUNTIF(O2:O9,">0")=2)),$G$10+$AQ$1,0)) -> 0 | P10: =IF(AND($F10=P$1,$G10=Q$1,COUNTIF(P2:P9,">0")<=1),$F$10-$AQ$1,IF(AND($F10=P$1,$G10=Q$1,COUNTIF(P2:P9,">0")>1),$F$10+$AQ$1,0)) -> 0 | Q10: =IF(AND($F10=P$1,$G10=Q$1,OR(COUNTIF(Q2:Q9,">0")=0,COUNTIF(Q2:Q9,">0")=3)),$G$10-$AQ$1,IF(AND($F10=P$1,$G10=Q$1,OR(COUNTIF(Q2:Q9,">0")=1,COUNTIF(Q2:Q9,">0")=2)),$G$10+$AQ$1,0)) -> 0 | R10: =IF(AND($F10=R$1,$G10=S$1,COUNTIF(R2:R9,">0")<=1),$F$10-$AQ$1,IF(AND($F10=R$1,$G10=S$1,COUNTIF(R2:R9,">0")>1),$F$10+$AQ$1,0)) -> 0 | S10: =IF(AND($F10=R$1,$G10=S$1,OR(COUNTIF(S2:S9,">0")=0,COUNTIF(S2:S9,">0")=3)),$G$10-$AQ$1,IF(AND($F10=R$1,$G10=S$1,OR(COUNTIF(S2:S9,">0")=1,COUNTIF(S2:S9,">0")=2)),$G$10+$AQ$1,0)) -> 0 | T10: =IF(AND($F10=T$1,$G10=U$1,COUNTIF(T2:T9,">0")<=1),$F$10-$AQ$1,IF(AND($F10=T$1,$G10=U$1,COUNTIF(T2:T9,">0")>1),$F$10+$AQ$1,0)) -> 0 | U10: =IF(AND($F10=T$1,$G10=U$1,OR(COUNTIF(U2:U9,">0")=0,COUNTIF(U2:U9,">0")=3)),$G$10-$AQ$1,IF(AND($F10=T$1,$G10=U$1,OR(COUNTIF(U2:U9,">0")=1,COUNTIF(U2:U9,">0")=2)),$G$10+$AQ$1,0)) -> 0 | V10: =IF(AND($F10=V$1,$G10=W$1,COUNTIF(V2:V9,">0")<=1),$F$10-$AQ$1,IF(AND($F10=V$1,$G10=W$1,COUNTIF(V2:V9,">0")>1),$F$10+$AQ$1,0)) -> 0 | W10: =IF(AND($F10=V$1,$G10=W$1,OR(COUNTIF(W2:W9,">0")=0,COUNTIF(W2:W9,">0")=3)),$G$10-$AQ$1,IF(AND($F10=V$1,$G10=W$1,OR(COUNTIF(W2:W9,">0")=1,COUNTIF(W2:W9,">0")=2)),$G$10+$AQ$1,0)) -> 0 | X10: =IF(AND($F10=X$1,$G10=Y$1,COUNTIF(X2:X9,">0")<=1),$F$10-$AQ$1,IF(AND($F10=X$1,$G10=Y$1,COUNTIF(X2:X9,">0")>1),$F$10+$AQ$1,0)) -> 0 | Y10: =IF(AND($F10=X$1,$G10=Y$1,OR(COUNTIF(Y2:Y9,">0")=0,COUNTIF(Y2:Y9,">0")=3)),$G$10-$AQ$1,IF(AND($F10=X$1,$G10=Y$1,OR(COUNTIF(Y2:Y9,">0")=1,COUNTIF(Y2:Y9,">0")=2)),$G$10+$AQ$1,0)) -> 0 | Z10: =IF(AND($F10=Z$1,$G10=AA$1,COUNTIF(Z2:Z9,">0")<=1),$F$10-$AQ$1,IF(AND($F10=Z$1,$G10=AA$1,COUNTIF(Z2:Z9,">0")>1),$F$10+$AQ$1,0)) -> 0 | AA10: =IF(AND($F10=Z$1,$G10=AA$1,OR(COUNTIF(AA2:AA9,">0")=0,COUNTIF(AA2:AA9,">0")=3)),$G$10-$AQ$1,IF(AND($F10=Z$1,$G10=AA$1,OR(COUNTIF(AA2:AA9,">0")=1,COUNTIF(AA2:AA9,">0")=2)),$G$10+$AQ$1,0)) -> 0 | AB10: =IF(AND($F10=AB$1,$G10=AC$1,COUNTIF(AB2:AB9,">0")<=1),$F$10-$AQ$1,IF(AND($F10=AB$1,$G10=AC$1,COUNTIF(AB2:AB9,">0")>1),$F$10+$AQ$1,0)) -> 0 | AC10: =IF(AND($F10=AB$1,$G10=AC$1,OR(COUNTIF(AC2:AC9,">0")=0,COUNTIF(AC2:AC9,">0")=3)),$G$10-$AQ$1,IF(AND($F10=AB$1,$G10=AC$1,OR(COUNTIF(AC2:AC9,">0")=1,COUNTIF(AC2:AC9,">0")=2)),$G$10+$AQ$1,0)) -> 0 | AD10: =IF(AND($F10=AD$1,$G10=AE$1,COUNTIF(AD2:AD9,">0")<=1),$F$10-$AQ$1,IF(AND($F10=AD$1,$G10=AE$1,COUNTIF(AD2:AD9,">0")>1),$F$10+$AQ$1,0)) -> 0 | AE10: =IF(AND($F10=AD$1,$G10=AE$1,OR(COUNTIF(AE2:AE9,">0")=0,COUNTIF(AE2:AE9,">0")=3)),$G$10-$AQ$1,IF(AND($F10=AD$1,$G10=AE$1,OR(COUNTIF(AE2:AE9,">0")=1,COUNTIF(AE2:AE9,">0")=2)),$G$10+$AQ$1,0)) -> 0 | AF10: =IF(AND($F10=AF$1,$G10=AG$1,COUNTIF(AF2:AF9,">0")<=1),$F$10-$AQ$1,IF(AND($F10=AF$1,$G10=AG$1,COUNTIF(AF2:AF9,">0")>1),$F$10+$AQ$1,0)) -> 0 | AG10: =IF(AND($F10=AF$1,$G10=AG$1,OR(COUNTIF(AG2:AG9,">0")=0,COUNTIF(AG2:AG9,">0")=3)),$G$10-$AQ$1,IF(AND($F10=AF$1,$G10=AG$1,OR(COUNTIF(AG2:AG9,">0")=1,COUNTIF(AG2:AG9,">0")=2)),$G$10+$AQ$1,0)) -> 0 | AH10: =IF(AND($F10=AH$1,$G10=AI$1,COUNTIF(AH2:AH9,">0")<=1),$F$10-$AQ$1,IF(AND($F10=AH$1,$G10=AI$1,COUNTIF(AH2:AH9,">0")>1),$F$10+$AQ$1,0)) -> 0 | AI10: =IF(AND($F10=AH$1,$G10=AI$1,OR(COUNTIF(AI2:AI9,">0")=0,COUNTIF(AI2:AI9,">0")=3)),$G$10-$AQ$1,IF(AND($F10=AH$1,$G10=AI$1,OR(COUNTIF(AI2:AI9,">0")=1,COUNTIF(AI2:AI9,">0")=2)),$G$10+$AQ$1,0)) -> 0 | AJ10: =IF(AND($F10=AJ$1,$G10=AK$1,COUNTIF(AJ2:AJ9,">0")<=1),$F$10-$AQ$1,IF(AND($F10=AJ$1,$G10=AK$1,COUNTIF(AJ2:AJ9,">0")>1),$F$10+$AQ$1,0)) -> 0 | AK10: =IF(AND($F10=AJ$1,$G10=AK$1,OR(COUNTIF(AK2:AK9,">0")=0,COUNTIF(AK2:AK9,">0")=3)),$G$10-$AQ$1,IF(AND($F10=AJ$1,$G10=AK$1,OR(COUNTIF(AK2:AK9,">0")=1,COUNTIF(AK2:AK9,">0")=2)),$G$10+$AQ$1,0)) -> 0 | AL10: =IF(AND($F10=AL$1,$G10=AM$1,COUNTIF(AL2:AL9,">0")<=1),$F$10-$AQ$1,IF(AND($F10=AL$1,$G10=AM$1,COUNTIF(AL2:AL9,">0")>1),$F$10+$AQ$1,0)) -> 0 | AM10: =IF(AND($F10=AL$1,$G10=AM$1,OR(COUNTIF(AM2:AM9,">0")=0,COUNTIF(AM2:AM9,">0")=3)),$G$10-$AQ$1,IF(AND($F10=AL$1,$G10=AM$1,OR(COUNTIF(AM2:AM9,">0")=1,COUNTIF(AM2:AM9,">0")=2)),$G$10+$AQ$1,0)) -> 0 | AN10: =SUM(I10,K10,M10,O10,Q10,S10,U10,W10,Y10,AA10,AC10,AE10,AG10,AI10,AK10,AM10) -> 0 | AO10: =SUM(H10,J10,L10,N10,P10,R10,T10,V10,X10,Z10,AB10,AD10,AF10,AH10,AJ10,AL10) -> 0 | AP10: =IF(Projektspørgsmål!$EM$27="","",Projektspørgsmål!$EM$27)
A11: Mobilitet | B11: =AVERAGE(F11:F14) -> 0 | C11: =IF(Projektspørgsmål!$EZ$30=Projektspørgsmål!$IO$33,TRUE,FALSE) -> FALSE | D11: =IF(C11=TRUE,MAX(D2:D10)+1,0) -> 0 | E11: =Projektspørgsmål!FK2 -> Transformation | F11: =Projektspørgsmål!JG7 -> 0 | G11: =Projektspørgsmål!JG11 -> 0 | H11: =IF(AND($F11=H$1,$G11=I$1,COUNTIF(H2:H10,">0")<=1),$F$11-$AQ$1,IF(AND($F11=H$1,$G11=I$1,COUNTIF(H2:H10,">0")>1),$F$11+$AQ$1,0)) -> 0 | I11: =IF(AND($F11=H$1,$G11=I$1,OR(COUNTIF(I2:I10,">0")=0,COUNTIF(I2:I10,">0")=3)),$G$11-$AQ$1,IF(AND($F11=H$1,$G11=I$1,OR(COUNTIF(I2:I10,">0")=1,COUNTIF(I2:I10,">0")=2)),$G$11+$AQ$1,0)) -> 0 | J11: =IF(AND($F11=J$1,$G11=K$1,COUNTIF(J2:J10,">0")<=1),$F$11-$AQ$1,IF(AND($F11=J$1,$G11=K$1,COUNTIF(J2:J10,">0")>1),$F$11+$AQ$1,0)) -> 0 | K11: =IF(AND($F11=J$1,$G11=K$1,OR(COUNTIF(K2:K10,">0")=0,COUNTIF(K2:K10,">0")=3)),$G$11-$AQ$1,IF(AND($F11=J$1,$G11=K$1,OR(COUNTIF(K2:K10,">0")=1,COUNTIF(K2:K10,">0")=2)),$G$11+$AQ$1,0)) -> 0 | L11: =IF(AND($F11=L$1,$G11=M$1,COUNTIF(L2:L10,">0")<=1),$F$11-$AQ$1,IF(AND($F11=L$1,$G11=M$1,COUNTIF(L2:L10,">0")>1),$F$11+$AQ$1,0)) -> 0 | M11: =IF(AND($F11=L$1,$G11=M$1,OR(COUNTIF(M2:M10,">0")=0,COUNTIF(M2:M10,">0")=3)),$G$11-$AQ$1,IF(AND($F11=L$1,$G11=M$1,OR(COUNTIF(M2:M10,">0")=1,COUNTIF(M2:M10,">0")=2)),$G$11+$AQ$1,0)) -> 0 | N11: =IF(AND($F11=N$1,$G11=O$1,COUNTIF(N2:N10,">0")<=1),$F$11-$AQ$1,IF(AND($F11=N$1,$G11=O$1,COUNTIF(N2:N10,">0")>1),$F$11+$AQ$1,0)) -> 0 | O11: =IF(AND($F11=N$1,$G11=O$1,OR(COUNTIF(O2:O10,">0")=0,COUNTIF(O2:O10,">0")=3)),$G$11-$AQ$1,IF(AND($F11=N$1,$G11=O$1,OR(COUNTIF(O2:O10,">0")=1,COUNTIF(O2:O10,">0")=2)),$G$11+$AQ$1,0)) -> 0 | P11: =IF(AND($F11=P$1,$G11=Q$1,COUNTIF(P2:P10,">0")<=1),$F$11-$AQ$1,IF(AND($F11=P$1,$G11=Q$1,COUNTIF(P2:P10,">0")>1),$F$11+$AQ$1,0)) -> 0 | Q11: =IF(AND($F11=P$1,$G11=Q$1,OR(COUNTIF(Q2:Q10,">0")=0,COUNTIF(Q2:Q10,">0")=3)),$G$11-$AQ$1,IF(AND($F11=P$1,$G11=Q$1,OR(COUNTIF(Q2:Q10,">0")=1,COUNTIF(Q2:Q10,">0")=2)),$G$11+$AQ$1,0)) -> 0 | R11: =IF(AND($F11=R$1,$G11=S$1,COUNTIF(R2:R10,">0")<=1),$F$11-$AQ$1,IF(AND($F11=R$1,$G11=S$1,COUNTIF(R2:R10,">0")>1),$F$11+$AQ$1,0)) -> 0 | S11: =IF(AND($F11=R$1,$G11=S$1,OR(COUNTIF(S2:S10,">0")=0,COUNTIF(S2:S10,">0")=3)),$G$11-$AQ$1,IF(AND($F11=R$1,$G11=S$1,OR(COUNTIF(S2:S10,">0")=1,COUNTIF(S2:S10,">0")=2)),$G$11+$AQ$1,0)) -> 0 | T11: =IF(AND($F11=T$1,$G11=U$1,COUNTIF(T2:T10,">0")<=1),$F$11-$AQ$1,IF(AND($F11=T$1,$G11=U$1,COUNTIF(T2:T10,">0")>1),$F$11+$AQ$1,0)) -> 0 | U11: =IF(AND($F11=T$1,$G11=U$1,OR(COUNTIF(U2:U10,">0")=0,COUNTIF(U2:U10,">0")=3)),$G$11-$AQ$1,IF(AND($F11=T$1,$G11=U$1,OR(COUNTIF(U2:U10,">0")=1,COUNTIF(U2:U10,">0")=2)),$G$11+$AQ$1,0)) -> 0 | V11: =IF(AND($F11=V$1,$G11=W$1,COUNTIF(V2:V10,">0")<=1),$F$11-$AQ$1,IF(AND($F11=V$1,$G11=W$1,COUNTIF(V2:V10,">0")>1),$F$11+$AQ$1,0)) -> 0 | W11: =IF(AND($F11=V$1,$G11=W$1,OR(COUNTIF(W2:W10,">0")=0,COUNTIF(W2:W10,">0")=3)),$G$11-$AQ$1,IF(AND($F11=V$1,$G11=W$1,OR(COUNTIF(W2:W10,">0")=1,COUNTIF(W2:W10,">0")=2)),$G$11+$AQ$1,0)) -> 0 | X11: =IF(AND($F11=X$1,$G11=Y$1,COUNTIF(X2:X10,">0")<=1),$F$11-$AQ$1,IF(AND($F11=X$1,$G11=Y$1,COUNTIF(X2:X10,">0")>1),$F$11+$AQ$1,0)) -> 0 | Y11: =IF(AND($F11=X$1,$G11=Y$1,OR(COUNTIF(Y2:Y10,">0")=0,COUNTIF(Y2:Y10,">0")=3)),$G$11-$AQ$1,IF(AND($F11=X$1,$G11=Y$1,OR(COUNTIF(Y2:Y10,">0")=1,COUNTIF(Y2:Y10,">0")=2)),$G$11+$AQ$1,0)) -> 0 | Z11: =IF(AND($F11=Z$1,$G11=AA$1,COUNTIF(Z2:Z10,">0")<=1),$F$11-$AQ$1,IF(AND($F11=Z$1,$G11=AA$1,COUNTIF(Z2:Z10,">0")>1),$F$11+$AQ$1,0)) -> 0 | AA11: =IF(AND($F11=Z$1,$G11=AA$1,OR(COUNTIF(AA2:AA10,">0")=0,COUNTIF(AA2:AA10,">0")=3)),$G$11-$AQ$1,IF(AND($F11=Z$1,$G11=AA$1,OR(COUNTIF(AA2:AA10,">0")=1,COUNTIF(AA2:AA10,">0")=2)),$G$11+$AQ$1,0)) -> 0 | AB11: =IF(AND($F11=AB$1,$G11=AC$1,COUNTIF(AB2:AB10,">0")<=1),$F$11-$AQ$1,IF(AND($F11=AB$1,$G11=AC$1,COUNTIF(AB2:AB10,">0")>1),$F$11+$AQ$1,0)) -> 0 | AC11: =IF(AND($F11=AB$1,$G11=AC$1,OR(COUNTIF(AC2:AC10,">0")=0,COUNTIF(AC2:AC10,">0")=3)),$G$11-$AQ$1,IF(AND($F11=AB$1,$G11=AC$1,OR(COUNTIF(AC2:AC10,">0")=1,COUNTIF(AC2:AC10,">0")=2)),$G$11+$AQ$1,0)) -> 0 | AD11: =IF(AND($F11=AD$1,$G11=AE$1,COUNTIF(AD2:AD10,">0")<=1),$F$11-$AQ$1,IF(AND($F11=AD$1,$G11=AE$1,COUNTIF(AD2:AD10,">0")>1),$F$11+$AQ$1,0)) -> 0 | AE11: =IF(AND($F11=AD$1,$G11=AE$1,OR(COUNTIF(AE2:AE10,">0")=0,COUNTIF(AE2:AE10,">0")=3)),$G$11-$AQ$1,IF(AND($F11=AD$1,$G11=AE$1,OR(COUNTIF(AE2:AE10,">0")=1,COUNTIF(AE2:AE10,">0")=2)),$G$11+$AQ$1,0)) -> 0 | AF11: =IF(AND($F11=AF$1,$G11=AG$1,COUNTIF(AF2:AF10,">0")<=1),$F$11-$AQ$1,IF(AND($F11=AF$1,$G11=AG$1,COUNTIF(AF2:AF10,">0")>1),$F$11+$AQ$1,0)) -> 0 | AG11: =IF(AND($F11=AF$1,$G11=AG$1,OR(COUNTIF(AG2:AG10,">0")=0,COUNTIF(AG2:AG10,">0")=3)),$G$11-$AQ$1,IF(AND($F11=AF$1,$G11=AG$1,OR(COUNTIF(AG2:AG10,">0")=1,COUNTIF(AG2:AG10,">0")=2)),$G$11+$AQ$1,0)) -> 0 | AH11: =IF(AND($F11=AH$1,$G11=AI$1,COUNTIF(AH2:AH10,">0")<=1),$F$11-$AQ$1,IF(AND($F11=AH$1,$G11=AI$1,COUNTIF(AH2:AH10,">0")>1),$F$11+$AQ$1,0)) -> 0 | AI11: =IF(AND($F11=AH$1,$G11=AI$1,OR(COUNTIF(AI2:AI10,">0")=0,COUNTIF(AI2:AI10,">0")=3)),$G$11-$AQ$1,IF(AND($F11=AH$1,$G11=AI$1,OR(COUNTIF(AI2:AI10,">0")=1,COUNTIF(AI2:AI10,">0")=2)),$G$11+$AQ$1,0)) -> 0 | AJ11: =IF(AND($F11=AJ$1,$G11=AK$1,COUNTIF(AJ2:AJ10,">0")<=1),$F$11-$AQ$1,IF(AND($F11=AJ$1,$G11=AK$1,COUNTIF(AJ2:AJ10,">0")>1),$F$11+$AQ$1,0)) -> 0 | AK11: =IF(AND($F11=AJ$1,$G11=AK$1,OR(COUNTIF(AK2:AK10,">0")=0,COUNTIF(AK2:AK10,">0")=3)),$G$11-$AQ$1,IF(AND($F11=AJ$1,$G11=AK$1,OR(COUNTIF(AK2:AK10,">0")=1,COUNTIF(AK2:AK10,">0")=2)),$G$11+$AQ$1,0)) -> 0 | AL11: =IF(AND($F11=AL$1,$G11=AM$1,COUNTIF(AL2:AL10,">0")<=1),$F$11-$AQ$1,IF(AND($F11=AL$1,$G11=AM$1,COUNTIF(AL2:AL10,">0")>1),$F$11+$AQ$1,0)) -> 0 | AM11: =IF(AND($F11=AL$1,$G11=AM$1,OR(COUNTIF(AM2:AM10,">0")=0,COUNTIF(AM2:AM10,">0")=3)),$G$11-$AQ$1,IF(AND($F11=AL$1,$G11=AM$1,OR(COUNTIF(AM2:AM10,">0")=1,COUNTIF(AM2:AM10,">0")=2)),$G$11+$AQ$1,0)) -> 0 | AN11: =SUM(I11,K11,M11,O11,Q11,S11,U11,W11,Y11,AA11,AC11,AE11,AG11,AI11,AK11,AM11) -> 0 | AO11: =SUM(H11,J11,L11,N11,P11,R11,T11,V11,X11,Z11,AB11,AD11,AF11,AH11,AJ11,AL11) -> 0 | AP11: =IF(Projektspørgsmål!$EZ$27="","",Projektspørgsmål!$EZ$27)
